Workbook

Sheet Eval #1
A1: Goaltender Evaluation Sheet
A5: EVALUATION #1 | D5: Goaltender
A6: Evaluation Item 1=weak, 10=strong | D6: Name 1 | F6: Name 2 | H6: Name 3 | J6: Name 4 | L6: Name 5 | N6: Name 6 | P6: Name 7 | R6: Name 8 | T6: Name 9 | V6: Name 10
D8: 1 | E8: R | F8: 2 | G8: R | H8: 3 | I8: R | J8: 4 | K8: R | L8: 5 | M8: R | N8: 6 | O8: R | P8: 7 | Q8: R | R8: 8 | S8: R | T8: 9 | U8: R | V8: 10 | W8: R
A9: CHARACTERISTICS
A10: Stance & Balance | B10: Maintains an athletic, stable stance; knees bent, weight fwd | D10: - | E10: =IF(ISERROR(IF(D10>=0,RANK(D10,($D10,$F10,$H10,$J10,$L10,$N10,$P10,$R10,$T10,$V10),0),"")),"",(IF(D10>=0,RANK(D10,($D10,$F10,$H10,$J10,$L10,$N10,$P10,$R10,$T10,$V10),0),""))) | F10: - | G10: =IF(ISERROR(IF(F10>=0,RANK(F10,($D10,$F10,$H10,$J10,$L10,$N10,$P10,$R10,$T10,$V10),0),"")),"",(IF(F10>=0,RANK(F10,($D10,$F10,$H10,$J10,$L10,$N10,$P10,$R10,$T10,$V10),0),""))) | H10: - | I10: =IF(ISERROR(IF(H10>=0,RANK(H10,($D10,$F10,$H10,$J10,$L10,$N10,$P10,$R10,$T10,$V10),0),"")),"",(IF(H10>=0,RANK(H10,($D10,$F10,$H10,$J10,$L10,$N10,$P10,$R10,$T10,$V10),0),""))) | J10: - | K10: =IF(ISERROR(IF(J10>=0,RANK(J10,($D10,$F10,$H10,$J10,$L10,$N10,$P10,$R10,$T10,$V10),0),"")),"",(IF(J10>=0,RANK(J10,($D10,$F10,$H10,$J10,$L10,$N10,$P10,$R10,$T10,$V10),0),""))) | L10: - | M10: =IF(ISERROR(IF(L10>=0,RANK(L10,($D10,$F10,$H10,$J10,$L10,$N10,$P10,$R10,$T10,$V10),0),"")),"",(IF(L10>=0,RANK(L10,($D10,$F10,$H10,$J10,$L10,$N10,$P10,$R10,$T10,$V10),0),""))) | N10: - | O10: =IF(ISERROR(IF(N10>=0,RANK(N10,($D10,$F10,$H10,$J10,$L10,$N10,$P10,$R10,$T10,$V10),0),"")),"",(IF(N10>=0,RANK(N10,($D10,$F10,$H10,$J10,$L10,$N10,$P10,$R10,$T10,$V10),0),""))) | P10: - | Q10: =IF(ISERROR(IF(P10>=0,RANK(P10,($D10,$F10,$H10,$J10,$L10,$N10,$P10,$R10,$T10,$V10),0),"")),"",(IF(P10>=0,RANK(P10,($D10,$F10,$H10,$J10,$L10,$N10,$P10,$R10,$T10,$V10),0),""))) | R10: - | S10: =IF(ISERROR(IF(R10>=0,RANK(R10,($D10,$F10,$H10,$J10,$L10,$N10,$P10,$R10,$T10,$V10),0),"")),"",(IF(R10>=0,RANK(R10,($D10,$F10,$H10,$J10,$L10,$N10,$P10,$R10,$T10,$V10),0),""))) | T10: - | U10: =IF(ISERROR(IF(T10>=0,RANK(T10,($D10,$F10,$H10,$J10,$L10,$N10,$P10,$R10,$T10,$V10),0),"")),"",(IF(T10>=0,RANK(T10,($D10,$F10,$H10,$J10,$L10,$N10,$P10,$R10,$T10,$V10),0),""))) | V10: - | W10: =IF(ISERROR(IF(V10>=0,RANK(V10,($D10,$F10,$H10,$J10,$L10,$N10,$P10,$R10,$T10,$V10),0),"")),"",(IF(V10>=0,RANK(V10,($D10,$F10,$H10,$J10,$L10,$N10,$P10,$R10,$T10,$V10),0),"")))
A11: Movement | B11: Uses small, controlled shuffles to stay square to puck | D11: - | E11: =IF(ISERROR(IF(D11>=0,RANK(D11,($D11,$F11,$H11,$J11,$L11,$N11,$P11,$R11,$T11,$V11),0),"")),"",(IF(D11>=0,RANK(D11,($D11,$F11,$H11,$J11,$L11,$N11,$P11,$R11,$T11,$V11),0),""))) | F11: - | G11: =IF(ISERROR(IF(F11>=0,RANK(F11,($D11,$F11,$H11,$J11,$L11,$N11,$P11,$R11,$T11,$V11),0),"")),"",(IF(F11>=0,RANK(F11,($D11,$F11,$H11,$J11,$L11,$N11,$P11,$R11,$T11,$V11),0),""))) | H11: - | I11: =IF(ISERROR(IF(H11>=0,RANK(H11,($D11,$F11,$H11,$J11,$L11,$N11,$P11,$R11,$T11,$V11),0),"")),"",(IF(H11>=0,RANK(H11,($D11,$F11,$H11,$J11,$L11,$N11,$P11,$R11,$T11,$V11),0),""))) | J11: - | K11: =IF(ISERROR(IF(J11>=0,RANK(J11,($D11,$F11,$H11,$J11,$L11,$N11,$P11,$R11,$T11,$V11),0),"")),"",(IF(J11>=0,RANK(J11,($D11,$F11,$H11,$J11,$L11,$N11,$P11,$R11,$T11,$V11),0),""))) | L11: - | M11: =IF(ISERROR(IF(L11>=0,RANK(L11,($D11,$F11,$H11,$J11,$L11,$N11,$P11,$R11,$T11,$V11),0),"")),"",(IF(L11>=0,RANK(L11,($D11,$F11,$H11,$J11,$L11,$N11,$P11,$R11,$T11,$V11),0),""))) | N11: - | O11: =IF(ISERROR(IF(N11>=0,RANK(N11,($D11,$F11,$H11,$J11,$L11,$N11,$P11,$R11,$T11,$V11),0),"")),"",(IF(N11>=0,RANK(N11,($D11,$F11,$H11,$J11,$L11,$N11,$P11,$R11,$T11,$V11),0),""))) | P11: - | Q11: =IF(ISERROR(IF(P11>=0,RANK(P11,($D11,$F11,$H11,$J11,$L11,$N11,$P11,$R11,$T11,$V11),0),"")),"",(IF(P11>=0,RANK(P11,($D11,$F11,$H11,$J11,$L11,$N11,$P11,$R11,$T11,$V11),0),""))) | R11: - | S11: =IF(ISERROR(IF(R11>=0,RANK(R11,($D11,$F11,$H11,$J11,$L11,$N11,$P11,$R11,$T11,$V11),0),"")),"",(IF(R11>=0,RANK(R11,($D11,$F11,$H11,$J11,$L11,$N11,$P11,$R11,$T11,$V11),0),""))) | T11: - | U11: =IF(ISERROR(IF(T11>=0,RANK(T11,($D11,$F11,$H11,$J11,$L11,$N11,$P11,$R11,$T11,$V11),0),"")),"",(IF(T11>=0,RANK(T11,($D11,$F11,$H11,$J11,$L11,$N11,$P11,$R11,$T11,$V11),0),""))) | V11: - | W11: =IF(ISERROR(IF(V11>=0,RANK(V11,($D11,$F11,$H11,$J11,$L11,$N11,$P11,$R11,$T11,$V11),0),"")),"",(IF(V11>=0,RANK(V11,($D11,$F11,$H11,$J11,$L11,$N11,$P11,$R11,$T11,$V11),0),"")))
A12: T-Push/C-Cut Ability | B12: Demonstrates understanding of crease movement patterns | D12: - | E12: =IF(ISERROR(IF(D12>=0,RANK(D12,($D12,$F12,$H12,$J12,$L12,$N12,$P12,$R12,$T12,$V12),0),"")),"",(IF(D12>=0,RANK(D12,($D12,$F12,$H12,$J12,$L12,$N12,$P12,$R12,$T12,$V12),0),""))) | F12: - | G12: =IF(ISERROR(IF(F12>=0,RANK(F12,($D12,$F12,$H12,$J12,$L12,$N12,$P12,$R12,$T12,$V12),0),"")),"",(IF(F12>=0,RANK(F12,($D12,$F12,$H12,$J12,$L12,$N12,$P12,$R12,$T12,$V12),0),""))) | H12: - | I12: =IF(ISERROR(IF(H12>=0,RANK(H12,($D12,$F12,$H12,$J12,$L12,$N12,$P12,$R12,$T12,$V12),0),"")),"",(IF(H12>=0,RANK(H12,($D12,$F12,$H12,$J12,$L12,$N12,$P12,$R12,$T12,$V12),0),""))) | J12: - | K12: =IF(ISERROR(IF(J12>=0,RANK(J12,($D12,$F12,$H12,$J12,$L12,$N12,$P12,$R12,$T12,$V12),0),"")),"",(IF(J12>=0,RANK(J12,($D12,$F12,$H12,$J12,$L12,$N12,$P12,$R12,$T12,$V12),0),""))) | L12: - | M12: =IF(ISERROR(IF(L12>=0,RANK(L12,($D12,$F12,$H12,$J12,$L12,$N12,$P12,$R12,$T12,$V12),0),"")),"",(IF(L12>=0,RANK(L12,($D12,$F12,$H12,$J12,$L12,$N12,$P12,$R12,$T12,$V12),0),""))) | N12: - | O12: =IF(ISERROR(IF(N12>=0,RANK(N12,($D12,$F12,$H12,$J12,$L12,$N12,$P12,$R12,$T12,$V12),0),"")),"",(IF(N12>=0,RANK(N12,($D12,$F12,$H12,$J12,$L12,$N12,$P12,$R12,$T12,$V12),0),""))) | P12: - | Q12: =IF(ISERROR(IF(P12>=0,RANK(P12,($D12,$F12,$H12,$J12,$L12,$N12,$P12,$R12,$T12,$V12),0),"")),"",(IF(P12>=0,RANK(P12,($D12,$F12,$H12,$J12,$L12,$N12,$P12,$R12,$T12,$V12),0),""))) | R12: - | S12: =IF(ISERROR(IF(R12>=0,RANK(R12,($D12,$F12,$H12,$J12,$L12,$N12,$P12,$R12,$T12,$V12),0),"")),"",(IF(R12>=0,RANK(R12,($D12,$F12,$H12,$J12,$L12,$N12,$P12,$R12,$T12,$V12),0),""))) | T12: - | U12: =IF(ISERROR(IF(T12>=0,RANK(T12,($D12,$F12,$H12,$J12,$L12,$N12,$P12,$R12,$T12,$V12),0),"")),"",(IF(T12>=0,RANK(T12,($D12,$F12,$H12,$J12,$L12,$N12,$P12,$R12,$T12,$V12),0),""))) | V12: - | W12: =IF(ISERROR(IF(V12>=0,RANK(V12,($D12,$F12,$H12,$J12,$L12,$N12,$P12,$R12,$T12,$V12),0),"")),"",(IF(V12>=0,RANK(V12,($D12,$F12,$H12,$J12,$L12,$N12,$P12,$R12,$T12,$V12),0),"")))
A13: Net Awareness | B13: Knows where the net is and keeps centered to puck | D13: - | E13: =IF(ISERROR(IF(D13>=0,RANK(D13,($D13,$F13,$H13,$J13,$L13,$N13,$P13,$R13,$T13,$V13),0),"")),"",(IF(D13>=0,RANK(D13,($D13,$F13,$H13,$J13,$L13,$N13,$P13,$R13,$T13,$V13),0),""))) | F13: - | G13: =IF(ISERROR(IF(F13>=0,RANK(F13,($D13,$F13,$H13,$J13,$L13,$N13,$P13,$R13,$T13,$V13),0),"")),"",(IF(F13>=0,RANK(F13,($D13,$F13,$H13,$J13,$L13,$N13,$P13,$R13,$T13,$V13),0),""))) | H13: - | I13: =IF(ISERROR(IF(H13>=0,RANK(H13,($D13,$F13,$H13,$J13,$L13,$N13,$P13,$R13,$T13,$V13),0),"")),"",(IF(H13>=0,RANK(H13,($D13,$F13,$H13,$J13,$L13,$N13,$P13,$R13,$T13,$V13),0),""))) | J13: - | K13: =IF(ISERROR(IF(J13>=0,RANK(J13,($D13,$F13,$H13,$J13,$L13,$N13,$P13,$R13,$T13,$V13),0),"")),"",(IF(J13>=0,RANK(J13,($D13,$F13,$H13,$J13,$L13,$N13,$P13,$R13,$T13,$V13),0),""))) | L13: - | M13: =IF(ISERROR(IF(L13>=0,RANK(L13,($D13,$F13,$H13,$J13,$L13,$N13,$P13,$R13,$T13,$V13),0),"")),"",(IF(L13>=0,RANK(L13,($D13,$F13,$H13,$J13,$L13,$N13,$P13,$R13,$T13,$V13),0),""))) | N13: - | O13: =IF(ISERROR(IF(N13>=0,RANK(N13,($D13,$F13,$H13,$J13,$L13,$N13,$P13,$R13,$T13,$V13),0),"")),"",(IF(N13>=0,RANK(N13,($D13,$F13,$H13,$J13,$L13,$N13,$P13,$R13,$T13,$V13),0),""))) | P13: - | Q13: =IF(ISERROR(IF(P13>=0,RANK(P13,($D13,$F13,$H13,$J13,$L13,$N13,$P13,$R13,$T13,$V13),0),"")),"",(IF(P13>=0,RANK(P13,($D13,$F13,$H13,$J13,$L13,$N13,$P13,$R13,$T13,$V13),0),""))) | R13: - | S13: =IF(ISERROR(IF(R13>=0,RANK(R13,($D13,$F13,$H13,$J13,$L13,$N13,$P13,$R13,$T13,$V13),0),"")),"",(IF(R13>=0,RANK(R13,($D13,$F13,$H13,$J13,$L13,$N13,$P13,$R13,$T13,$V13),0),""))) | T13: - | U13: =IF(ISERROR(IF(T13>=0,RANK(T13,($D13,$F13,$H13,$J13,$L13,$N13,$P13,$R13,$T13,$V13),0),"")),"",(IF(T13>=0,RANK(T13,($D13,$F13,$H13,$J13,$L13,$N13,$P13,$R13,$T13,$V13),0),""))) | V13: - | W13: =IF(ISERROR(IF(V13>=0,RANK(V13,($D13,$F13,$H13,$J13,$L13,$N13,$P13,$R13,$T13,$V13),0),"")),"",(IF(V13>=0,RANK(V13,($D13,$F13,$H13,$J13,$L13,$N13,$P13,$R13,$T13,$V13),0),"")))
A14: Depth Control | B14: Moves out/in from crease depending on puck distance | D14: - | E14: =IF(ISERROR(IF(D14>=0,RANK(D14,($D14,$F14,$H14,$J14,$L14,$N14,$P14,$R14,$T14,$V14),0),"")),"",(IF(D14>=0,RANK(D14,($D14,$F14,$H14,$J14,$L14,$N14,$P14,$R14,$T14,$V14),0),""))) | F14: - | G14: =IF(ISERROR(IF(F14>=0,RANK(F14,($D14,$F14,$H14,$J14,$L14,$N14,$P14,$R14,$T14,$V14),0),"")),"",(IF(F14>=0,RANK(F14,($D14,$F14,$H14,$J14,$L14,$N14,$P14,$R14,$T14,$V14),0),""))) | H14: - | I14: =IF(ISERROR(IF(H14>=0,RANK(H14,($D14,$F14,$H14,$J14,$L14,$N14,$P14,$R14,$T14,$V14),0),"")),"",(IF(H14>=0,RANK(H14,($D14,$F14,$H14,$J14,$L14,$N14,$P14,$R14,$T14,$V14),0),""))) | J14: - | K14: =IF(ISERROR(IF(J14>=0,RANK(J14,($D14,$F14,$H14,$J14,$L14,$N14,$P14,$R14,$T14,$V14),0),"")),"",(IF(J14>=0,RANK(J14,($D14,$F14,$H14,$J14,$L14,$N14,$P14,$R14,$T14,$V14),0),""))) | L14: - | M14: =IF(ISERROR(IF(L14>=0,RANK(L14,($D14,$F14,$H14,$J14,$L14,$N14,$P14,$R14,$T14,$V14),0),"")),"",(IF(L14>=0,RANK(L14,($D14,$F14,$H14,$J14,$L14,$N14,$P14,$R14,$T14,$V14),0),""))) | N14: - | O14: =IF(ISERROR(IF(N14>=0,RANK(N14,($D14,$F14,$H14,$J14,$L14,$N14,$P14,$R14,$T14,$V14),0),"")),"",(IF(N14>=0,RANK(N14,($D14,$F14,$H14,$J14,$L14,$N14,$P14,$R14,$T14,$V14),0),""))) | P14: - | Q14: =IF(ISERROR(IF(P14>=0,RANK(P14,($D14,$F14,$H14,$J14,$L14,$N14,$P14,$R14,$T14,$V14),0),"")),"",(IF(P14>=0,RANK(P14,($D14,$F14,$H14,$J14,$L14,$N14,$P14,$R14,$T14,$V14),0),""))) | R14: - | S14: =IF(ISERROR(IF(R14>=0,RANK(R14,($D14,$F14,$H14,$J14,$L14,$N14,$P14,$R14,$T14,$V14),0),"")),"",(IF(R14>=0,RANK(R14,($D14,$F14,$H14,$J14,$L14,$N14,$P14,$R14,$T14,$V14),0),""))) | T14: - | U14: =IF(ISERROR(IF(T14>=0,RANK(T14,($D14,$F14,$H14,$J14,$L14,$N14,$P14,$R14,$T14,$V14),0),"")),"",(IF(T14>=0,RANK(T14,($D14,$F14,$H14,$J14,$L14,$N14,$P14,$R14,$T14,$V14),0),""))) | V14: - | W14: =IF(ISERROR(IF(V14>=0,RANK(V14,($D14,$F14,$H14,$J14,$L14,$N14,$P14,$R14,$T14,$V14),0),"")),"",(IF(V14>=0,RANK(V14,($D14,$F14,$H14,$J14,$L14,$N14,$P14,$R14,$T14,$V14),0),"")))
A15: Tracking | B15: Eyes follow the puck from the stick to glove/blocker | D15: - | E15: =IF(ISERROR(IF(D15>=0,RANK(D15,($D15,$F15,$H15,$J15,$L15,$N15,$P15,$R15,$T15,$V15),0),"")),"",(IF(D15>=0,RANK(D15,($D15,$F15,$H15,$J15,$L15,$N15,$P15,$R15,$T15,$V15),0),""))) | F15: - | G15: =IF(ISERROR(IF(F15>=0,RANK(F15,($D15,$F15,$H15,$J15,$L15,$N15,$P15,$R15,$T15,$V15),0),"")),"",(IF(F15>=0,RANK(F15,($D15,$F15,$H15,$J15,$L15,$N15,$P15,$R15,$T15,$V15),0),""))) | H15: - | I15: =IF(ISERROR(IF(H15>=0,RANK(H15,($D15,$F15,$H15,$J15,$L15,$N15,$P15,$R15,$T15,$V15),0),"")),"",(IF(H15>=0,RANK(H15,($D15,$F15,$H15,$J15,$L15,$N15,$P15,$R15,$T15,$V15),0),""))) | J15: - | K15: =IF(ISERROR(IF(J15>=0,RANK(J15,($D15,$F15,$H15,$J15,$L15,$N15,$P15,$R15,$T15,$V15),0),"")),"",(IF(J15>=0,RANK(J15,($D15,$F15,$H15,$J15,$L15,$N15,$P15,$R15,$T15,$V15),0),""))) | L15: - | M15: =IF(ISERROR(IF(L15>=0,RANK(L15,($D15,$F15,$H15,$J15,$L15,$N15,$P15,$R15,$T15,$V15),0),"")),"",(IF(L15>=0,RANK(L15,($D15,$F15,$H15,$J15,$L15,$N15,$P15,$R15,$T15,$V15),0),""))) | N15: - | O15: =IF(ISERROR(IF(N15>=0,RANK(N15,($D15,$F15,$H15,$J15,$L15,$N15,$P15,$R15,$T15,$V15),0),"")),"",(IF(N15>=0,RANK(N15,($D15,$F15,$H15,$J15,$L15,$N15,$P15,$R15,$T15,$V15),0),""))) | P15: - | Q15: =IF(ISERROR(IF(P15>=0,RANK(P15,($D15,$F15,$H15,$J15,$L15,$N15,$P15,$R15,$T15,$V15),0),"")),"",(IF(P15>=0,RANK(P15,($D15,$F15,$H15,$J15,$L15,$N15,$P15,$R15,$T15,$V15),0),""))) | R15: - | S15: =IF(ISERROR(IF(R15>=0,RANK(R15,($D15,$F15,$H15,$J15,$L15,$N15,$P15,$R15,$T15,$V15),0),"")),"",(IF(R15>=0,RANK(R15,($D15,$F15,$H15,$J15,$L15,$N15,$P15,$R15,$T15,$V15),0),""))) | T15: - | U15: =IF(ISERROR(IF(T15>=0,RANK(T15,($D15,$F15,$H15,$J15,$L15,$N15,$P15,$R15,$T15,$V15),0),"")),"",(IF(T15>=0,RANK(T15,($D15,$F15,$H15,$J15,$L15,$N15,$P15,$R15,$T15,$V15),0),""))) | V15: - | W15: =IF(ISERROR(IF(V15>=0,RANK(V15,($D15,$F15,$H15,$J15,$L15,$N15,$P15,$R15,$T15,$V15),0),"")),"",(IF(V15>=0,RANK(V15,($D15,$F15,$H15,$J15,$L15,$N15,$P15,$R15,$T15,$V15),0),"")))
A16: Positioning | B16: Hands out in front, reacts to shots appropriately | D16: - | E16: =IF(ISERROR(IF(D16>=0,RANK(D16,($D16,$F16,$H16,$J16,$L16,$N16,$P16,$R16,$T16,$V16),0),"")),"",(IF(D16>=0,RANK(D16,($D16,$F16,$H16,$J16,$L16,$N16,$P16,$R16,$T16,$V16),0),""))) | F16: - | G16: =IF(ISERROR(IF(F16>=0,RANK(F16,($D16,$F16,$H16,$J16,$L16,$N16,$P16,$R16,$T16,$V16),0),"")),"",(IF(F16>=0,RANK(F16,($D16,$F16,$H16,$J16,$L16,$N16,$P16,$R16,$T16,$V16),0),""))) | H16: - | I16: =IF(ISERROR(IF(H16>=0,RANK(H16,($D16,$F16,$H16,$J16,$L16,$N16,$P16,$R16,$T16,$V16),0),"")),"",(IF(H16>=0,RANK(H16,($D16,$F16,$H16,$J16,$L16,$N16,$P16,$R16,$T16,$V16),0),""))) | J16: - | K16: =IF(ISERROR(IF(J16>=0,RANK(J16,($D16,$F16,$H16,$J16,$L16,$N16,$P16,$R16,$T16,$V16),0),"")),"",(IF(J16>=0,RANK(J16,($D16,$F16,$H16,$J16,$L16,$N16,$P16,$R16,$T16,$V16),0),""))) | L16: - | M16: =IF(ISERROR(IF(L16>=0,RANK(L16,($D16,$F16,$H16,$J16,$L16,$N16,$P16,$R16,$T16,$V16),0),"")),"",(IF(L16>=0,RANK(L16,($D16,$F16,$H16,$J16,$L16,$N16,$P16,$R16,$T16,$V16),0),""))) | N16: - | O16: =IF(ISERROR(IF(N16>=0,RANK(N16,($D16,$F16,$H16,$J16,$L16,$N16,$P16,$R16,$T16,$V16),0),"")),"",(IF(N16>=0,RANK(N16,($D16,$F16,$H16,$J16,$L16,$N16,$P16,$R16,$T16,$V16),0),""))) | P16: - | Q16: =IF(ISERROR(IF(P16>=0,RANK(P16,($D16,$F16,$H16,$J16,$L16,$N16,$P16,$R16,$T16,$V16),0),"")),"",(IF(P16>=0,RANK(P16,($D16,$F16,$H16,$J16,$L16,$N16,$P16,$R16,$T16,$V16),0),""))) | R16: - | S16: =IF(ISERROR(IF(R16>=0,RANK(R16,($D16,$F16,$H16,$J16,$L16,$N16,$P16,$R16,$T16,$V16),0),"")),"",(IF(R16>=0,RANK(R16,($D16,$F16,$H16,$J16,$L16,$N16,$P16,$R16,$T16,$V16),0),""))) | T16: - | U16: =IF(ISERROR(IF(T16>=0,RANK(T16,($D16,$F16,$H16,$J16,$L16,$N16,$P16,$R16,$T16,$V16),0),"")),"",(IF(T16>=0,RANK(T16,($D16,$F16,$H16,$J16,$L16,$N16,$P16,$R16,$T16,$V16),0),""))) | V16: - | W16: =IF(ISERROR(IF(V16>=0,RANK(V16,($D16,$F16,$H16,$J16,$L16,$N16,$P16,$R16,$T16,$V16),0),"")),"",(IF(V16>=0,RANK(V16,($D16,$F16,$H16,$J16,$L16,$N16,$P16,$R16,$T16,$V16),0),"")))
A17: Rebound Control | B17: Attempts to direct rebounds to corner or cover puck | D17: - | E17: =IF(ISERROR(IF(D17>=0,RANK(D17,($D17,$F17,$H17,$J17,$L17,$N17,$P17,$R17,$T17,$V17),0),"")),"",(IF(D17>=0,RANK(D17,($D17,$F17,$H17,$J17,$L17,$N17,$P17,$R17,$T17,$V17),0),""))) | F17: - | G17: =IF(ISERROR(IF(F17>=0,RANK(F17,($D17,$F17,$H17,$J17,$L17,$N17,$P17,$R17,$T17,$V17),0),"")),"",(IF(F17>=0,RANK(F17,($D17,$F17,$H17,$J17,$L17,$N17,$P17,$R17,$T17,$V17),0),""))) | H17: - | I17: =IF(ISERROR(IF(H17>=0,RANK(H17,($D17,$F17,$H17,$J17,$L17,$N17,$P17,$R17,$T17,$V17),0),"")),"",(IF(H17>=0,RANK(H17,($D17,$F17,$H17,$J17,$L17,$N17,$P17,$R17,$T17,$V17),0),""))) | J17: - | K17: =IF(ISERROR(IF(J17>=0,RANK(J17,($D17,$F17,$H17,$J17,$L17,$N17,$P17,$R17,$T17,$V17),0),"")),"",(IF(J17>=0,RANK(J17,($D17,$F17,$H17,$J17,$L17,$N17,$P17,$R17,$T17,$V17),0),""))) | L17: - | M17: =IF(ISERROR(IF(L17>=0,RANK(L17,($D17,$F17,$H17,$J17,$L17,$N17,$P17,$R17,$T17,$V17),0),"")),"",(IF(L17>=0,RANK(L17,($D17,$F17,$H17,$J17,$L17,$N17,$P17,$R17,$T17,$V17),0),""))) | N17: - | O17: =IF(ISERROR(IF(N17>=0,RANK(N17,($D17,$F17,$H17,$J17,$L17,$N17,$P17,$R17,$T17,$V17),0),"")),"",(IF(N17>=0,RANK(N17,($D17,$F17,$H17,$J17,$L17,$N17,$P17,$R17,$T17,$V17),0),""))) | P17: - | Q17: =IF(ISERROR(IF(P17>=0,RANK(P17,($D17,$F17,$H17,$J17,$L17,$N17,$P17,$R17,$T17,$V17),0),"")),"",(IF(P17>=0,RANK(P17,($D17,$F17,$H17,$J17,$L17,$N17,$P17,$R17,$T17,$V17),0),""))) | R17: - | S17: =IF(ISERROR(IF(R17>=0,RANK(R17,($D17,$F17,$H17,$J17,$L17,$N17,$P17,$R17,$T17,$V17),0),"")),"",(IF(R17>=0,RANK(R17,($D17,$F17,$H17,$J17,$L17,$N17,$P17,$R17,$T17,$V17),0),""))) | T17: - | U17: =IF(ISERROR(IF(T17>=0,RANK(T17,($D17,$F17,$H17,$J17,$L17,$N17,$P17,$R17,$T17,$V17),0),"")),"",(IF(T17>=0,RANK(T17,($D17,$F17,$H17,$J17,$L17,$N17,$P17,$R17,$T17,$V17),0),""))) | V17: - | W17: =IF(ISERROR(IF(V17>=0,RANK(V17,($D17,$F17,$H17,$J17,$L17,$N17,$P17,$R17,$T17,$V17),0),"")),"",(IF(V17>=0,RANK(V17,($D17,$F17,$H17,$J17,$L17,$N17,$P17,$R17,$T17,$V17),0),"")))
A18: Effort & Attitude | B18: Consistently gives full efffort in movement drills | D18: - | E18: =IF(ISERROR(IF(D18>=0,RANK(D18,($D18,$F18,$H18,$J18,$L18,$N18,$P18,$R18,$T18,$V18),0),"")),"",(IF(D18>=0,RANK(D18,($D18,$F18,$H18,$J18,$L18,$N18,$P18,$R18,$T18,$V18),0),""))) | F18: - | G18: =IF(ISERROR(IF(F18>=0,RANK(F18,($D18,$F18,$H18,$J18,$L18,$N18,$P18,$R18,$T18,$V18),0),"")),"",(IF(F18>=0,RANK(F18,($D18,$F18,$H18,$J18,$L18,$N18,$P18,$R18,$T18,$V18),0),""))) | H18: - | I18: =IF(ISERROR(IF(H18>=0,RANK(H18,($D18,$F18,$H18,$J18,$L18,$N18,$P18,$R18,$T18,$V18),0),"")),"",(IF(H18>=0,RANK(H18,($D18,$F18,$H18,$J18,$L18,$N18,$P18,$R18,$T18,$V18),0),""))) | J18: - | K18: =IF(ISERROR(IF(J18>=0,RANK(J18,($D18,$F18,$H18,$J18,$L18,$N18,$P18,$R18,$T18,$V18),0),"")),"",(IF(J18>=0,RANK(J18,($D18,$F18,$H18,$J18,$L18,$N18,$P18,$R18,$T18,$V18),0),""))) | L18: - | M18: =IF(ISERROR(IF(L18>=0,RANK(L18,($D18,$F18,$H18,$J18,$L18,$N18,$P18,$R18,$T18,$V18),0),"")),"",(IF(L18>=0,RANK(L18,($D18,$F18,$H18,$J18,$L18,$N18,$P18,$R18,$T18,$V18),0),""))) | N18: - | O18: =IF(ISERROR(IF(N18>=0,RANK(N18,($D18,$F18,$H18,$J18,$L18,$N18,$P18,$R18,$T18,$V18),0),"")),"",(IF(N18>=0,RANK(N18,($D18,$F18,$H18,$J18,$L18,$N18,$P18,$R18,$T18,$V18),0),""))) | P18: - | Q18: =IF(ISERROR(IF(P18>=0,RANK(P18,($D18,$F18,$H18,$J18,$L18,$N18,$P18,$R18,$T18,$V18),0),"")),"",(IF(P18>=0,RANK(P18,($D18,$F18,$H18,$J18,$L18,$N18,$P18,$R18,$T18,$V18),0),""))) | R18: - | S18: =IF(ISERROR(IF(R18>=0,RANK(R18,($D18,$F18,$H18,$J18,$L18,$N18,$P18,$R18,$T18,$V18),0),"")),"",(IF(R18>=0,RANK(R18,($D18,$F18,$H18,$J18,$L18,$N18,$P18,$R18,$T18,$V18),0),""))) | T18: - | U18: =IF(ISERROR(IF(T18>=0,RANK(T18,($D18,$F18,$H18,$J18,$L18,$N18,$P18,$R18,$T18,$V18),0),"")),"",(IF(T18>=0,RANK(T18,($D18,$F18,$H18,$J18,$L18,$N18,$P18,$R18,$T18,$V18),0),""))) | V18: - | W18: =IF(ISERROR(IF(V18>=0,RANK(V18,($D18,$F18,$H18,$J18,$L18,$N18,$P18,$R18,$T18,$V18),0),"")),"",(IF(V18>=0,RANK(V18,($D18,$F18,$H18,$J18,$L18,$N18,$P18,$R18,$T18,$V18),0),"")))
B19: Responds positively to feedback | D19: - | E19: =IF(ISERROR(IF(D19>=0,RANK(D19,($D19,$F19,$H19,$J19,$L19,$N19,$P19,$R19,$T19,$V19),0),"")),"",(IF(D19>=0,RANK(D19,($D19,$F19,$H19,$J19,$L19,$N19,$P19,$R19,$T19,$V19),0),""))) | F19: - | G19: =IF(ISERROR(IF(F19>=0,RANK(F19,($D19,$F19,$H19,$J19,$L19,$N19,$P19,$R19,$T19,$V19),0),"")),"",(IF(F19>=0,RANK(F19,($D19,$F19,$H19,$J19,$L19,$N19,$P19,$R19,$T19,$V19),0),""))) | H19: - | I19: =IF(ISERROR(IF(H19>=0,RANK(H19,($D19,$F19,$H19,$J19,$L19,$N19,$P19,$R19,$T19,$V19),0),"")),"",(IF(H19>=0,RANK(H19,($D19,$F19,$H19,$J19,$L19,$N19,$P19,$R19,$T19,$V19),0),""))) | J19: - | K19: =IF(ISERROR(IF(J19>=0,RANK(J19,($D19,$F19,$H19,$J19,$L19,$N19,$P19,$R19,$T19,$V19),0),"")),"",(IF(J19>=0,RANK(J19,($D19,$F19,$H19,$J19,$L19,$N19,$P19,$R19,$T19,$V19),0),""))) | L19: - | M19: =IF(ISERROR(IF(L19>=0,RANK(L19,($D19,$F19,$H19,$J19,$L19,$N19,$P19,$R19,$T19,$V19),0),"")),"",(IF(L19>=0,RANK(L19,($D19,$F19,$H19,$J19,$L19,$N19,$P19,$R19,$T19,$V19),0),""))) | N19: - | O19: =IF(ISERROR(IF(N19>=0,RANK(N19,($D19,$F19,$H19,$J19,$L19,$N19,$P19,$R19,$T19,$V19),0),"")),"",(IF(N19>=0,RANK(N19,($D19,$F19,$H19,$J19,$L19,$N19,$P19,$R19,$T19,$V19),0),""))) | P19: - | Q19: =IF(ISERROR(IF(P19>=0,RANK(P19,($D19,$F19,$H19,$J19,$L19,$N19,$P19,$R19,$T19,$V19),0),"")),"",(IF(P19>=0,RANK(P19,($D19,$F19,$H19,$J19,$L19,$N19,$P19,$R19,$T19,$V19),0),""))) | R19: - | S19: =IF(ISERROR(IF(R19>=0,RANK(R19,($D19,$F19,$H19,$J19,$L19,$N19,$P19,$R19,$T19,$V19),0),"")),"",(IF(R19>=0,RANK(R19,($D19,$F19,$H19,$J19,$L19,$N19,$P19,$R19,$T19,$V19),0),""))) | T19: - | U19: =IF(ISERROR(IF(T19>=0,RANK(T19,($D19,$F19,$H19,$J19,$L19,$N19,$P19,$R19,$T19,$V19),0),"")),"",(IF(T19>=0,RANK(T19,($D19,$F19,$H19,$J19,$L19,$N19,$P19,$R19,$T19,$V19),0),""))) | V19: - | W19: =IF(ISERROR(IF(V19>=0,RANK(V19,($D19,$F19,$H19,$J19,$L19,$N19,$P19,$R19,$T19,$V19),0),"")),"",(IF(V19>=0,RANK(V19,($D19,$F19,$H19,$J19,$L19,$N19,$P19,$R19,$T19,$V19),0),"")))
B20: Demonstrates willingness to learn and improve | D20: - | E20: =IF(ISERROR(IF(D20>=0,RANK(D20,($D20,$F20,$H20,$J20,$L20,$N20,$P20,$R20,$T20,$V20),0),"")),"",(IF(D20>=0,RANK(D20,($D20,$F20,$H20,$J20,$L20,$N20,$P20,$R20,$T20,$V20),0),""))) | F20: - | G20: =IF(ISERROR(IF(F20>=0,RANK(F20,($D20,$F20,$H20,$J20,$L20,$N20,$P20,$R20,$T20,$V20),0),"")),"",(IF(F20>=0,RANK(F20,($D20,$F20,$H20,$J20,$L20,$N20,$P20,$R20,$T20,$V20),0),""))) | H20: - | I20: =IF(ISERROR(IF(H20>=0,RANK(H20,($D20,$F20,$H20,$J20,$L20,$N20,$P20,$R20,$T20,$V20),0),"")),"",(IF(H20>=0,RANK(H20,($D20,$F20,$H20,$J20,$L20,$N20,$P20,$R20,$T20,$V20),0),""))) | J20: - | K20: =IF(ISERROR(IF(J20>=0,RANK(J20,($D20,$F20,$H20,$J20,$L20,$N20,$P20,$R20,$T20,$V20),0),"")),"",(IF(J20>=0,RANK(J20,($D20,$F20,$H20,$J20,$L20,$N20,$P20,$R20,$T20,$V20),0),""))) | L20: - | M20: =IF(ISERROR(IF(L20>=0,RANK(L20,($D20,$F20,$H20,$J20,$L20,$N20,$P20,$R20,$T20,$V20),0),"")),"",(IF(L20>=0,RANK(L20,($D20,$F20,$H20,$J20,$L20,$N20,$P20,$R20,$T20,$V20),0),""))) | N20: - | O20: =IF(ISERROR(IF(N20>=0,RANK(N20,($D20,$F20,$H20,$J20,$L20,$N20,$P20,$R20,$T20,$V20),0),"")),"",(IF(N20>=0,RANK(N20,($D20,$F20,$H20,$J20,$L20,$N20,$P20,$R20,$T20,$V20),0),""))) | P20: - | Q20: =IF(ISERROR(IF(P20>=0,RANK(P20,($D20,$F20,$H20,$J20,$L20,$N20,$P20,$R20,$T20,$V20),0),"")),"",(IF(P20>=0,RANK(P20,($D20,$F20,$H20,$J20,$L20,$N20,$P20,$R20,$T20,$V20),0),""))) | R20: - | S20: =IF(ISERROR(IF(R20>=0,RANK(R20,($D20,$F20,$H20,$J20,$L20,$N20,$P20,$R20,$T20,$V20),0),"")),"",(IF(R20>=0,RANK(R20,($D20,$F20,$H20,$J20,$L20,$N20,$P20,$R20,$T20,$V20),0),""))) | T20: - | U20: =IF(ISERROR(IF(T20>=0,RANK(T20,($D20,$F20,$H20,$J20,$L20,$N20,$P20,$R20,$T20,$V20),0),"")),"",(IF(T20>=0,RANK(T20,($D20,$F20,$H20,$J20,$L20,$N20,$P20,$R20,$T20,$V20),0),""))) | V20: - | W20: =IF(ISERROR(IF(V20>=0,RANK(V20,($D20,$F20,$H20,$J20,$L20,$N20,$P20,$R20,$T20,$V20),0),"")),"",(IF(V20>=0,RANK(V20,($D20,$F20,$H20,$J20,$L20,$N20,$P20,$R20,$T20,$V20),0),"")))
D21: =IF(ISERROR(AVERAGE(E10:E20)),"",AVERAGE(E10:E20)) | F21: =IF(ISERROR(AVERAGE(G10:G20)),"",AVERAGE(G10:G20)) | H21: =IF(ISERROR(AVERAGE(I10:I20)),"",AVERAGE(I10:I20)) | J21: =IF(ISERROR(AVERAGE(K10:K20)),"",AVERAGE(K10:K20)) | L21: =IF(ISERROR(AVERAGE(M10:M20)),"",AVERAGE(M10:M20)) | N21: =IF(ISERROR(AVERAGE(O10:O20)),"",AVERAGE(O10:O20)) | P21: =IF(ISERROR(AVERAGE(Q10:Q20)),"",AVERAGE(Q10:Q20)) | R21: =IF(ISERROR(AVERAGE(S10:S20)),"",AVERAGE(S10:S20)) | T21: =IF(ISERROR(AVERAGE(U10:U20)),"",AVERAGE(U10:U20)) | V21: =IF(ISERROR(AVERAGE(W10:W20)),"",AVERAGE(W10:W20))
A22: OVERALL RANK | D22: =IF(ISERROR(RANK(D21,$D21:$V21,1)),"",RANK(D21,$D21:$V21,1)) | F22: =IF(ISERROR(RANK(F21,$D21:$V21,1)),"",RANK(F21,$D21:$V21,1)) | H22: =IF(ISERROR(RANK(H21,$D21:$V21,1)),"",RANK(H21,$D21:$V21,1)) | J22: =IF(ISERROR(RANK(J21,$D21:$V21,1)),"",RANK(J21,$D21:$V21,1)) | L22: =IF(ISERROR(RANK(L21,$D21:$V21,1)),"",RANK(L21,$D21:$V21,1)) | N22: =IF(ISERROR(RANK(N21,$D21:$V21,1)),"",RANK(N21,$D21:$V21,1)) | P22: =IF(ISERROR(RANK(P21,$D21:$V21,1)),"",RANK(P21,$D21:$V21,1)) | R22: =IF(ISERROR(RANK(R21,$D21:$V21,1)),"",RANK(R21,$D21:$V21,1)) | T22: =IF(ISERROR(RANK(T21,$D21:$V21,1)),"",RANK(T21,$D21:$V21,1)) | V22: =IF(ISERROR(RANK(V21,$D21:$V21,1)),"",RANK(V21,$D21:$V21,1))
C24: Team Name: | D24: - | O24: Date of Evaluation: | P24: -
C25: Age Division: | D25: - | O25: Evaluator: | P25: -
C26: Coach: | D26: -
D27: NOTE: EVALUATE PLAYERS AGAINST PLAYERS ON OWN TEAM; R=Rank

Sheet Eval #2
A1: Goaltender Evaluation Sheet
A5: EVALUATION #1 | D5: Goaltender
A6: Evaluation Item 1=weak, 10=strong | D6: Name 1 | F6: Name 2 | H6: Name 3 | J6: Name 4 | L6: Name 5 | N6: Name 6 | P6: Name 7 | R6: Name 8 | T6: Name 9 | V6: Name 10
D8: 1 | E8: R | F8: 2 | G8: R | H8: 3 | I8: R | J8: 4 | K8: R | L8: 5 | M8: R | N8: 6 | O8: R | P8: 7 | Q8: R | R8: 8 | S8: R | T8: 9 | U8: R | V8: 10 | W8: R
A9: CHARACTERISTICS
A10: Stance & Balance | B10: Maintains an athletic, stable stance; knees bent, weight fwd | D10: - | E10: =IF(ISERROR(IF(D10>=0,RANK(D10,($D10,$F10,$H10,$J10,$L10,$N10,$P10,$R10,$T10,$V10),0),"")),"",(IF(D10>=0,RANK(D10,($D10,$F10,$H10,$J10,$L10,$N10,$P10,$R10,$T10,$V10),0),""))) | F10: - | G10: =IF(ISERROR(IF(F10>=0,RANK(F10,($D10,$F10,$H10,$J10,$L10,$N10,$P10,$R10,$T10,$V10),0),"")),"",(IF(F10>=0,RANK(F10,($D10,$F10,$H10,$J10,$L10,$N10,$P10,$R10,$T10,$V10),0),""))) | H10: - | I10: =IF(ISERROR(IF(H10>=0,RANK(H10,($D10,$F10,$H10,$J10,$L10,$N10,$P10,$R10,$T10,$V10),0),"")),"",(IF(H10>=0,RANK(H10,($D10,$F10,$H10,$J10,$L10,$N10,$P10,$R10,$T10,$V10),0),""))) | J10: - | K10: =IF(ISERROR(IF(J10>=0,RANK(J10,($D10,$F10,$H10,$J10,$L10,$N10,$P10,$R10,$T10,$V10),0),"")),"",(IF(J10>=0,RANK(J10,($D10,$F10,$H10,$J10,$L10,$N10,$P10,$R10,$T10,$V10),0),""))) | L10: - | M10: =IF(ISERROR(IF(L10>=0,RANK(L10,($D10,$F10,$H10,$J10,$L10,$N10,$P10,$R10,$T10,$V10),0),"")),"",(IF(L10>=0,RANK(L10,($D10,$F10,$H10,$J10,$L10,$N10,$P10,$R10,$T10,$V10),0),""))) | N10: - | O10: =IF(ISERROR(IF(N10>=0,RANK(N10,($D10,$F10,$H10,$J10,$L10,$N10,$P10,$R10,$T10,$V10),0),"")),"",(IF(N10>=0,RANK(N10,($D10,$F10,$H10,$J10,$L10,$N10,$P10,$R10,$T10,$V10),0),""))) | P10: - | Q10: =IF(ISERROR(IF(P10>=0,RANK(P10,($D10,$F10,$H10,$J10,$L10,$N10,$P10,$R10,$T10,$V10),0),"")),"",(IF(P10>=0,RANK(P10,($D10,$F10,$H10,$J10,$L10,$N10,$P10,$R10,$T10,$V10),0),""))) | R10: - | S10: =IF(ISERROR(IF(R10>=0,RANK(R10,($D10,$F10,$H10,$J10,$L10,$N10,$P10,$R10,$T10,$V10),0),"")),"",(IF(R10>=0,RANK(R10,($D10,$F10,$H10,$J10,$L10,$N10,$P10,$R10,$T10,$V10),0),""))) | T10: - | U10: =IF(ISERROR(IF(T10>=0,RANK(T10,($D10,$F10,$H10,$J10,$L10,$N10,$P10,$R10,$T10,$V10),0),"")),"",(IF(T10>=0,RANK(T10,($D10,$F10,$H10,$J10,$L10,$N10,$P10,$R10,$T10,$V10),0),""))) | V10: - | W10: =IF(ISERROR(IF(V10>=0,RANK(V10,($D10,$F10,$H10,$J10,$L10,$N10,$P10,$R10,$T10,$V10),0),"")),"",(IF(V10>=0,RANK(V10,($D10,$F10,$H10,$J10,$L10,$N10,$P10,$R10,$T10,$V10),0),"")))
A11: Movement | B11: Uses small, controlled shuffles to stay square to puck | D11: - | E11: =IF(ISERROR(IF(D11>=0,RANK(D11,($D11,$F11,$H11,$J11,$L11,$N11,$P11,$R11,$T11,$V11),0),"")),"",(IF(D11>=0,RANK(D11,($D11,$F11,$H11,$J11,$L11,$N11,$P11,$R11,$T11,$V11),0),""))) | F11: - | G11: =IF(ISERROR(IF(F11>=0,RANK(F11,($D11,$F11,$H11,$J11,$L11,$N11,$P11,$R11,$T11,$V11),0),"")),"",(IF(F11>=0,RANK(F11,($D11,$F11,$H11,$J11,$L11,$N11,$P11,$R11,$T11,$V11),0),""))) | H11: - | I11: =IF(ISERROR(IF(H11>=0,RANK(H11,($D11,$F11,$H11,$J11,$L11,$N11,$P11,$R11,$T11,$V11),0),"")),"",(IF(H11>=0,RANK(H11,($D11,$F11,$H11,$J11,$L11,$N11,$P11,$R11,$T11,$V11),0),""))) | J11: - | K11: =IF(ISERROR(IF(J11>=0,RANK(J11,($D11,$F11,$H11,$J11,$L11,$N11,$P11,$R11,$T11,$V11),0),"")),"",(IF(J11>=0,RANK(J11,($D11,$F11,$H11,$J11,$L11,$N11,$P11,$R11,$T11,$V11),0),""))) | L11: - | M11: =IF(ISERROR(IF(L11>=0,RANK(L11,($D11,$F11,$H11,$J11,$L11,$N11,$P11,$R11,$T11,$V11),0),"")),"",(IF(L11>=0,RANK(L11,($D11,$F11,$H11,$J11,$L11,$N11,$P11,$R11,$T11,$V11),0),""))) | N11: - | O11: =IF(ISERROR(IF(N11>=0,RANK(N11,($D11,$F11,$H11,$J11,$L11,$N11,$P11,$R11,$T11,$V11),0),"")),"",(IF(N11>=0,RANK(N11,($D11,$F11,$H11,$J11,$L11,$N11,$P11,$R11,$T11,$V11),0),""))) | P11: - | Q11: =IF(ISERROR(IF(P11>=0,RANK(P11,($D11,$F11,$H11,$J11,$L11,$N11,$P11,$R11,$T11,$V11),0),"")),"",(IF(P11>=0,RANK(P11,($D11,$F11,$H11,$J11,$L11,$N11,$P11,$R11,$T11,$V11),0),""))) | R11: - | S11: =IF(ISERROR(IF(R11>=0,RANK(R11,($D11,$F11,$H11,$J11,$L11,$N11,$P11,$R11,$T11,$V11),0),"")),"",(IF(R11>=0,RANK(R11,($D11,$F11,$H11,$J11,$L11,$N11,$P11,$R11,$T11,$V11),0),""))) | T11: - | U11: =IF(ISERROR(IF(T11>=0,RANK(T11,($D11,$F11,$H11,$J11,$L11,$N11,$P11,$R11,$T11,$V11),0),"")),"",(IF(T11>=0,RANK(T11,($D11,$F11,$H11,$J11,$L11,$N11,$P11,$R11,$T11,$V11),0),""))) | V11: - | W11: =IF(ISERROR(IF(V11>=0,RANK(V11,($D11,$F11,$H11,$J11,$L11,$N11,$P11,$R11,$T11,$V11),0),"")),"",(IF(V11>=0,RANK(V11,($D11,$F11,$H11,$J11,$L11,$N11,$P11,$R11,$T11,$V11),0),"")))
A12: T-Push/C-Cut Ability | B12: Demonstrates understanding of crease movement patterns | D12: - | E12: =IF(ISERROR(IF(D12>=0,RANK(D12,($D12,$F12,$H12,$J12,$L12,$N12,$P12,$R12,$T12,$V12),0),"")),"",(IF(D12>=0,RANK(D12,($D12,$F12,$H12,$J12,$L12,$N12,$P12,$R12,$T12,$V12),0),""))) | F12: - | G12: =IF(ISERROR(IF(F12>=0,RANK(F12,($D12,$F12,$H12,$J12,$L12,$N12,$P12,$R12,$T12,$V12),0),"")),"",(IF(F12>=0,RANK(F12,($D12,$F12,$H12,$J12,$L12,$N12,$P12,$R12,$T12,$V12),0),""))) | H12: - | I12: =IF(ISERROR(IF(H12>=0,RANK(H12,($D12,$F12,$H12,$J12,$L12,$N12,$P12,$R12,$T12,$V12),0),"")),"",(IF(H12>=0,RANK(H12,($D12,$F12,$H12,$J12,$L12,$N12,$P12,$R12,$T12,$V12),0),""))) | J12: - | K12: =IF(ISERROR(IF(J12>=0,RANK(J12,($D12,$F12,$H12,$J12,$L12,$N12,$P12,$R12,$T12,$V12),0),"")),"",(IF(J12>=0,RANK(J12,($D12,$F12,$H12,$J12,$L12,$N12,$P12,$R12,$T12,$V12),0),""))) | L12: - | M12: =IF(ISERROR(IF(L12>=0,RANK(L12,($D12,$F12,$H12,$J12,$L12,$N12,$P12,$R12,$T12,$V12),0),"")),"",(IF(L12>=0,RANK(L12,($D12,$F12,$H12,$J12,$L12,$N12,$P12,$R12,$T12,$V12),0),""))) | N12: - | O12: =IF(ISERROR(IF(N12>=0,RANK(N12,($D12,$F12,$H12,$J12,$L12,$N12,$P12,$R12,$T12,$V12),0),"")),"",(IF(N12>=0,RANK(N12,($D12,$F12,$H12,$J12,$L12,$N12,$P12,$R12,$T12,$V12),0),""))) | P12: - | Q12: =IF(ISERROR(IF(P12>=0,RANK(P12,($D12,$F12,$H12,$J12,$L12,$N12,$P12,$R12,$T12,$V12),0),"")),"",(IF(P12>=0,RANK(P12,($D12,$F12,$H12,$J12,$L12,$N12,$P12,$R12,$T12,$V12),0),""))) | R12: - | S12: =IF(ISERROR(IF(R12>=0,RANK(R12,($D12,$F12,$H12,$J12,$L12,$N12,$P12,$R12,$T12,$V12),0),"")),"",(IF(R12>=0,RANK(R12,($D12,$F12,$H12,$J12,$L12,$N12,$P12,$R12,$T12,$V12),0),""))) | T12: - | U12: =IF(ISERROR(IF(T12>=0,RANK(T12,($D12,$F12,$H12,$J12,$L12,$N12,$P12,$R12,$T12,$V12),0),"")),"",(IF(T12>=0,RANK(T12,($D12,$F12,$H12,$J12,$L12,$N12,$P12,$R12,$T12,$V12),0),""))) | V12: - | W12: =IF(ISERROR(IF(V12>=0,RANK(V12,($D12,$F12,$H12,$J12,$L12,$N12,$P12,$R12,$T12,$V12),0),"")),"",(IF(V12>=0,RANK(V12,($D12,$F12,$H12,$J12,$L12,$N12,$P12,$R12,$T12,$V12),0),"")))
A13: Net Awareness | B13: Knows where the net is and keeps centered to puck | D13: - | E13: =IF(ISERROR(IF(D13>=0,RANK(D13,($D13,$F13,$H13,$J13,$L13,$N13,$P13,$R13,$T13,$V13),0),"")),"",(IF(D13>=0,RANK(D13,($D13,$F13,$H13,$J13,$L13,$N13,$P13,$R13,$T13,$V13),0),""))) | F13: - | G13: =IF(ISERROR(IF(F13>=0,RANK(F13,($D13,$F13,$H13,$J13,$L13,$N13,$P13,$R13,$T13,$V13),0),"")),"",(IF(F13>=0,RANK(F13,($D13,$F13,$H13,$J13,$L13,$N13,$P13,$R13,$T13,$V13),0),""))) | H13: - | I13: =IF(ISERROR(IF(H13>=0,RANK(H13,($D13,$F13,$H13,$J13,$L13,$N13,$P13,$R13,$T13,$V13),0),"")),"",(IF(H13>=0,RANK(H13,($D13,$F13,$H13,$J13,$L13,$N13,$P13,$R13,$T13,$V13),0),""))) | J13: - | K13: =IF(ISERROR(IF(J13>=0,RANK(J13,($D13,$F13,$H13,$J13,$L13,$N13,$P13,$R13,$T13,$V13),0),"")),"",(IF(J13>=0,RANK(J13,($D13,$F13,$H13,$J13,$L13,$N13,$P13,$R13,$T13,$V13),0),""))) | L13: - | M13: =IF(ISERROR(IF(L13>=0,RANK(L13,($D13,$F13,$H13,$J13,$L13,$N13,$P13,$R13,$T13,$V13),0),"")),"",(IF(L13>=0,RANK(L13,($D13,$F13,$H13,$J13,$L13,$N13,$P13,$R13,$T13,$V13),0),""))) | N13: - | O13: =IF(ISERROR(IF(N13>=0,RANK(N13,($D13,$F13,$H13,$J13,$L13,$N13,$P13,$R13,$T13,$V13),0),"")),"",(IF(N13>=0,RANK(N13,($D13,$F13,$H13,$J13,$L13,$N13,$P13,$R13,$T13,$V13),0),""))) | P13: - | Q13: =IF(ISERROR(IF(P13>=0,RANK(P13,($D13,$F13,$H13,$J13,$L13,$N13,$P13,$R13,$T13,$V13),0),"")),"",(IF(P13>=0,RANK(P13,($D13,$F13,$H13,$J13,$L13,$N13,$P13,$R13,$T13,$V13),0),""))) | R13: - | S13: =IF(ISERROR(IF(R13>=0,RANK(R13,($D13,$F13,$H13,$J13,$L13,$N13,$P13,$R13,$T13,$V13),0),"")),"",(IF(R13>=0,RANK(R13,($D13,$F13,$H13,$J13,$L13,$N13,$P13,$R13,$T13,$V13),0),""))) | T13: - | U13: =IF(ISERROR(IF(T13>=0,RANK(T13,($D13,$F13,$H13,$J13,$L13,$N13,$P13,$R13,$T13,$V13),0),"")),"",(IF(T13>=0,RANK(T13,($D13,$F13,$H13,$J13,$L13,$N13,$P13,$R13,$T13,$V13),0),""))) | V13: - | W13: =IF(ISERROR(IF(V13>=0,RANK(V13,($D13,$F13,$H13,$J13,$L13,$N13,$P13,$R13,$T13,$V13),0),"")),"",(IF(V13>=0,RANK(V13,($D13,$F13,$H13,$J13,$L13,$N13,$P13,$R13,$T13,$V13),0),"")))
A14: Depth Control | B14: Moves out/in from crease depending on puck distance | D14: - | E14: =IF(ISERROR(IF(D14>=0,RANK(D14,($D14,$F14,$H14,$J14,$L14,$N14,$P14,$R14,$T14,$V14),0),"")),"",(IF(D14>=0,RANK(D14,($D14,$F14,$H14,$J14,$L14,$N14,$P14,$R14,$T14,$V14),0),""))) | F14: - | G14: =IF(ISERROR(IF(F14>=0,RANK(F14,($D14,$F14,$H14,$J14,$L14,$N14,$P14,$R14,$T14,$V14),0),"")),"",(IF(F14>=0,RANK(F14,($D14,$F14,$H14,$J14,$L14,$N14,$P14,$R14,$T14,$V14),0),""))) | H14: - | I14: =IF(ISERROR(IF(H14>=0,RANK(H14,($D14,$F14,$H14,$J14,$L14,$N14,$P14,$R14,$T14,$V14),0),"")),"",(IF(H14>=0,RANK(H14,($D14,$F14,$H14,$J14,$L14,$N14,$P14,$R14,$T14,$V14),0),""))) | J14: - | K14: =IF(ISERROR(IF(J14>=0,RANK(J14,($D14,$F14,$H14,$J14,$L14,$N14,$P14,$R14,$T14,$V14),0),"")),"",(IF(J14>=0,RANK(J14,($D14,$F14,$H14,$J14,$L14,$N14,$P14,$R14,$T14,$V14),0),""))) | L14: - | M14: =IF(ISERROR(IF(L14>=0,RANK(L14,($D14,$F14,$H14,$J14,$L14,$N14,$P14,$R14,$T14,$V14),0),"")),"",(IF(L14>=0,RANK(L14,($D14,$F14,$H14,$J14,$L14,$N14,$P14,$R14,$T14,$V14),0),""))) | N14: - | O14: =IF(ISERROR(IF(N14>=0,RANK(N14,($D14,$F14,$H14,$J14,$L14,$N14,$P14,$R14,$T14,$V14),0),"")),"",(IF(N14>=0,RANK(N14,($D14,$F14,$H14,$J14,$L14,$N14,$P14,$R14,$T14,$V14),0),""))) | P14: - | Q14: =IF(ISERROR(IF(P14>=0,RANK(P14,($D14,$F14,$H14,$J14,$L14,$N14,$P14,$R14,$T14,$V14),0),"")),"",(IF(P14>=0,RANK(P14,($D14,$F14,$H14,$J14,$L14,$N14,$P14,$R14,$T14,$V14),0),""))) | R14: - | S14: =IF(ISERROR(IF(R14>=0,RANK(R14,($D14,$F14,$H14,$J14,$L14,$N14,$P14,$R14,$T14,$V14),0),"")),"",(IF(R14>=0,RANK(R14,($D14,$F14,$H14,$J14,$L14,$N14,$P14,$R14,$T14,$V14),0),""))) | T14: - | U14: =IF(ISERROR(IF(T14>=0,RANK(T14,($D14,$F14,$H14,$J14,$L14,$N14,$P14,$R14,$T14,$V14),0),"")),"",(IF(T14>=0,RANK(T14,($D14,$F14,$H14,$J14,$L14,$N14,$P14,$R14,$T14,$V14),0),""))) | V14: - | W14: =IF(ISERROR(IF(V14>=0,RANK(V14,($D14,$F14,$H14,$J14,$L14,$N14,$P14,$R14,$T14,$V14),0),"")),"",(IF(V14>=0,RANK(V14,($D14,$F14,$H14,$J14,$L14,$N14,$P14,$R14,$T14,$V14),0),"")))
A15: Tracking | B15: Eyes follow the puck from the stick to glove/blocker | D15: - | E15: =IF(ISERROR(IF(D15>=0,RANK(D15,($D15,$F15,$H15,$J15,$L15,$N15,$P15,$R15,$T15,$V15),0),"")),"",(IF(D15>=0,RANK(D15,($D15,$F15,$H15,$J15,$L15,$N15,$P15,$R15,$T15,$V15),0),""))) | F15: - | G15: =IF(ISERROR(IF(F15>=0,RANK(F15,($D15,$F15,$H15,$J15,$L15,$N15,$P15,$R15,$T15,$V15),0),"")),"",(IF(F15>=0,RANK(F15,($D15,$F15,$H15,$J15,$L15,$N15,$P15,$R15,$T15,$V15),0),""))) | H15: - | I15: =IF(ISERROR(IF(H15>=0,RANK(H15,($D15,$F15,$H15,$J15,$L15,$N15,$P15,$R15,$T15,$V15),0),"")),"",(IF(H15>=0,RANK(H15,($D15,$F15,$H15,$J15,$L15,$N15,$P15,$R15,$T15,$V15),0),""))) | J15: - | K15: =IF(ISERROR(IF(J15>=0,RANK(J15,($D15,$F15,$H15,$J15,$L15,$N15,$P15,$R15,$T15,$V15),0),"")),"",(IF(J15>=0,RANK(J15,($D15,$F15,$H15,$J15,$L15,$N15,$P15,$R15,$T15,$V15),0),""))) | L15: - | M15: =IF(ISERROR(IF(L15>=0,RANK(L15,($D15,$F15,$H15,$J15,$L15,$N15,$P15,$R15,$T15,$V15),0),"")),"",(IF(L15>=0,RANK(L15,($D15,$F15,$H15,$J15,$L15,$N15,$P15,$R15,$T15,$V15),0),""))) | N15: - | O15: =IF(ISERROR(IF(N15>=0,RANK(N15,($D15,$F15,$H15,$J15,$L15,$N15,$P15,$R15,$T15,$V15),0),"")),"",(IF(N15>=0,RANK(N15,($D15,$F15,$H15,$J15,$L15,$N15,$P15,$R15,$T15,$V15),0),""))) | P15: - | Q15: =IF(ISERROR(IF(P15>=0,RANK(P15,($D15,$F15,$H15,$J15,$L15,$N15,$P15,$R15,$T15,$V15),0),"")),"",(IF(P15>=0,RANK(P15,($D15,$F15,$H15,$J15,$L15,$N15,$P15,$R15,$T15,$V15),0),""))) | R15: - | S15: =IF(ISERROR(IF(R15>=0,RANK(R15,($D15,$F15,$H15,$J15,$L15,$N15,$P15,$R15,$T15,$V15),0),"")),"",(IF(R15>=0,RANK(R15,($D15,$F15,$H15,$J15,$L15,$N15,$P15,$R15,$T15,$V15),0),""))) | T15: - | U15: =IF(ISERROR(IF(T15>=0,RANK(T15,($D15,$F15,$H15,$J15,$L15,$N15,$P15,$R15,$T15,$V15),0),"")),"",(IF(T15>=0,RANK(T15,($D15,$F15,$H15,$J15,$L15,$N15,$P15,$R15,$T15,$V15),0),""))) | V15: - | W15: =IF(ISERROR(IF(V15>=0,RANK(V15,($D15,$F15,$H15,$J15,$L15,$N15,$P15,$R15,$T15,$V15),0),"")),"",(IF(V15>=0,RANK(V15,($D15,$F15,$H15,$J15,$L15,$N15,$P15,$R15,$T15,$V15),0),"")))
A16: Positioning | B16: Hands out in front, reacts to shots appropriately | D16: - | E16: =IF(ISERROR(IF(D16>=0,RANK(D16,($D16,$F16,$H16,$J16,$L16,$N16,$P16,$R16,$T16,$V16),0),"")),"",(IF(D16>=0,RANK(D16,($D16,$F16,$H16,$J16,$L16,$N16,$P16,$R16,$T16,$V16),0),""))) | F16: - | G16: =IF(ISERROR(IF(F16>=0,RANK(F16,($D16,$F16,$H16,$J16,$L16,$N16,$P16,$R16,$T16,$V16),0),"")),"",(IF(F16>=0,RANK(F16,($D16,$F16,$H16,$J16,$L16,$N16,$P16,$R16,$T16,$V16),0),""))) | H16: - | I16: =IF(ISERROR(IF(H16>=0,RANK(H16,($D16,$F16,$H16,$J16,$L16,$N16,$P16,$R16,$T16,$V16),0),"")),"",(IF(H16>=0,RANK(H16,($D16,$F16,$H16,$J16,$L16,$N16,$P16,$R16,$T16,$V16),0),""))) | J16: - | K16: =IF(ISERROR(IF(J16>=0,RANK(J16,($D16,$F16,$H16,$J16,$L16,$N16,$P16,$R16,$T16,$V16),0),"")),"",(IF(J16>=0,RANK(J16,($D16,$F16,$H16,$J16,$L16,$N16,$P16,$R16,$T16,$V16),0),""))) | L16: - | M16: =IF(ISERROR(IF(L16>=0,RANK(L16,($D16,$F16,$H16,$J16,$L16,$N16,$P16,$R16,$T16,$V16),0),"")),"",(IF(L16>=0,RANK(L16,($D16,$F16,$H16,$J16,$L16,$N16,$P16,$R16,$T16,$V16),0),""))) | N16: - | O16: =IF(ISERROR(IF(N16>=0,RANK(N16,($D16,$F16,$H16,$J16,$L16,$N16,$P16,$R16,$T16,$V16),0),"")),"",(IF(N16>=0,RANK(N16,($D16,$F16,$H16,$J16,$L16,$N16,$P16,$R16,$T16,$V16),0),""))) | P16: - | Q16: =IF(ISERROR(IF(P16>=0,RANK(P16,($D16,$F16,$H16,$J16,$L16,$N16,$P16,$R16,$T16,$V16),0),"")),"",(IF(P16>=0,RANK(P16,($D16,$F16,$H16,$J16,$L16,$N16,$P16,$R16,$T16,$V16),0),""))) | R16: - | S16: =IF(ISERROR(IF(R16>=0,RANK(R16,($D16,$F16,$H16,$J16,$L16,$N16,$P16,$R16,$T16,$V16),0),"")),"",(IF(R16>=0,RANK(R16,($D16,$F16,$H16,$J16,$L16,$N16,$P16,$R16,$T16,$V16),0),""))) | T16: - | U16: =IF(ISERROR(IF(T16>=0,RANK(T16,($D16,$F16,$H16,$J16,$L16,$N16,$P16,$R16,$T16,$V16),0),"")),"",(IF(T16>=0,RANK(T16,($D16,$F16,$H16,$J16,$L16,$N16,$P16,$R16,$T16,$V16),0),""))) | V16: - | W16: =IF(ISERROR(IF(V16>=0,RANK(V16,($D16,$F16,$H16,$J16,$L16,$N16,$P16,$R16,$T16,$V16),0),"")),"",(IF(V16>=0,RANK(V16,($D16,$F16,$H16,$J16,$L16,$N16,$P16,$R16,$T16,$V16),0),"")))
A17: Rebound Control | B17: Attempts to direct rebounds to corner or cover puck | D17: - | E17: =IF(ISERROR(IF(D17>=0,RANK(D17,($D17,$F17,$H17,$J17,$L17,$N17,$P17,$R17,$T17,$V17),0),"")),"",(IF(D17>=0,RANK(D17,($D17,$F17,$H17,$J17,$L17,$N17,$P17,$R17,$T17,$V17),0),""))) | F17: - | G17: =IF(ISERROR(IF(F17>=0,RANK(F17,($D17,$F17,$H17,$J17,$L17,$N17,$P17,$R17,$T17,$V17),0),"")),"",(IF(F17>=0,RANK(F17,($D17,$F17,$H17,$J17,$L17,$N17,$P17,$R17,$T17,$V17),0),""))) | H17: - | I17: =IF(ISERROR(IF(H17>=0,RANK(H17,($D17,$F17,$H17,$J17,$L17,$N17,$P17,$R17,$T17,$V17),0),"")),"",(IF(H17>=0,RANK(H17,($D17,$F17,$H17,$J17,$L17,$N17,$P17,$R17,$T17,$V17),0),""))) | J17: - | K17: =IF(ISERROR(IF(J17>=0,RANK(J17,($D17,$F17,$H17,$J17,$L17,$N17,$P17,$R17,$T17,$V17),0),"")),"",(IF(J17>=0,RANK(J17,($D17,$F17,$H17,$J17,$L17,$N17,$P17,$R17,$T17,$V17),0),""))) | L17: - | M17: =IF(ISERROR(IF(L17>=0,RANK(L17,($D17,$F17,$H17,$J17,$L17,$N17,$P17,$R17,$T17,$V17),0),"")),"",(IF(L17>=0,RANK(L17,($D17,$F17,$H17,$J17,$L17,$N17,$P17,$R17,$T17,$V17),0),""))) | N17: - | O17: =IF(ISERROR(IF(N17>=0,RANK(N17,($D17,$F17,$H17,$J17,$L17,$N17,$P17,$R17,$T17,$V17),0),"")),"",(IF(N17>=0,RANK(N17,($D17,$F17,$H17,$J17,$L17,$N17,$P17,$R17,$T17,$V17),0),""))) | P17: - | Q17: =IF(ISERROR(IF(P17>=0,RANK(P17,($D17,$F17,$H17,$J17,$L17,$N17,$P17,$R17,$T17,$V17),0),"")),"",(IF(P17>=0,RANK(P17,($D17,$F17,$H17,$J17,$L17,$N17,$P17,$R17,$T17,$V17),0),""))) | R17: - | S17: =IF(ISERROR(IF(R17>=0,RANK(R17,($D17,$F17,$H17,$J17,$L17,$N17,$P17,$R17,$T17,$V17),0),"")),"",(IF(R17>=0,RANK(R17,($D17,$F17,$H17,$J17,$L17,$N17,$P17,$R17,$T17,$V17),0),""))) | T17: - | U17: =IF(ISERROR(IF(T17>=0,RANK(T17,($D17,$F17,$H17,$J17,$L17,$N17,$P17,$R17,$T17,$V17),0),"")),"",(IF(T17>=0,RANK(T17,($D17,$F17,$H17,$J17,$L17,$N17,$P17,$R17,$T17,$V17),0),""))) | V17: - | W17: =IF(ISERROR(IF(V17>=0,RANK(V17,($D17,$F17,$H17,$J17,$L17,$N17,$P17,$R17,$T17,$V17),0),"")),"",(IF(V17>=0,RANK(V17,($D17,$F17,$H17,$J17,$L17,$N17,$P17,$R17,$T17,$V17),0),"")))
A18: Effort & Attitude | B18: Consistently gives full efffort in movement drills | D18: - | E18: =IF(ISERROR(IF(D18>=0,RANK(D18,($D18,$F18,$H18,$J18,$L18,$N18,$P18,$R18,$T18,$V18),0),"")),"",(IF(D18>=0,RANK(D18,($D18,$F18,$H18,$J18,$L18,$N18,$P18,$R18,$T18,$V18),0),""))) | F18: - | G18: =IF(ISERROR(IF(F18>=0,RANK(F18,($D18,$F18,$H18,$J18,$L18,$N18,$P18,$R18,$T18,$V18),0),"")),"",(IF(F18>=0,RANK(F18,($D18,$F18,$H18,$J18,$L18,$N18,$P18,$R18,$T18,$V18),0),""))) | H18: - | I18: =IF(ISERROR(IF(H18>=0,RANK(H18,($D18,$F18,$H18,$J18,$L18,$N18,$P18,$R18,$T18,$V18),0),"")),"",(IF(H18>=0,RANK(H18,($D18,$F18,$H18,$J18,$L18,$N18,$P18,$R18,$T18,$V18),0),""))) | J18: - | K18: =IF(ISERROR(IF(J18>=0,RANK(J18,($D18,$F18,$H18,$J18,$L18,$N18,$P18,$R18,$T18,$V18),0),"")),"",(IF(J18>=0,RANK(J18,($D18,$F18,$H18,$J18,$L18,$N18,$P18,$R18,$T18,$V18),0),""))) | L18: - | M18: =IF(ISERROR(IF(L18>=0,RANK(L18,($D18,$F18,$H18,$J18,$L18,$N18,$P18,$R18,$T18,$V18),0),"")),"",(IF(L18>=0,RANK(L18,($D18,$F18,$H18,$J18,$L18,$N18,$P18,$R18,$T18,$V18),0),""))) | N18: - | O18: =IF(ISERROR(IF(N18>=0,RANK(N18,($D18,$F18,$H18,$J18,$L18,$N18,$P18,$R18,$T18,$V18),0),"")),"",(IF(N18>=0,RANK(N18,($D18,$F18,$H18,$J18,$L18,$N18,$P18,$R18,$T18,$V18),0),""))) | P18: - | Q18: =IF(ISERROR(IF(P18>=0,RANK(P18,($D18,$F18,$H18,$J18,$L18,$N18,$P18,$R18,$T18,$V18),0),"")),"",(IF(P18>=0,RANK(P18,($D18,$F18,$H18,$J18,$L18,$N18,$P18,$R18,$T18,$V18),0),""))) | R18: - | S18: =IF(ISERROR(IF(R18>=0,RANK(R18,($D18,$F18,$H18,$J18,$L18,$N18,$P18,$R18,$T18,$V18),0),"")),"",(IF(R18>=0,RANK(R18,($D18,$F18,$H18,$J18,$L18,$N18,$P18,$R18,$T18,$V18),0),""))) | T18: - | U18: =IF(ISERROR(IF(T18>=0,RANK(T18,($D18,$F18,$H18,$J18,$L18,$N18,$P18,$R18,$T18,$V18),0),"")),"",(IF(T18>=0,RANK(T18,($D18,$F18,$H18,$J18,$L18,$N18,$P18,$R18,$T18,$V18),0),""))) | V18: - | W18: =IF(ISERROR(IF(V18>=0,RANK(V18,($D18,$F18,$H18,$J18,$L18,$N18,$P18,$R18,$T18,$V18),0),"")),"",(IF(V18>=0,RANK(V18,($D18,$F18,$H18,$J18,$L18,$N18,$P18,$R18,$T18,$V18),0),"")))
B19: Responds positively to feedback | D19: - | E19: =IF(ISERROR(IF(D19>=0,RANK(D19,($D19,$F19,$H19,$J19,$L19,$N19,$P19,$R19,$T19,$V19),0),"")),"",(IF(D19>=0,RANK(D19,($D19,$F19,$H19,$J19,$L19,$N19,$P19,$R19,$T19,$V19),0),""))) | F19: - | G19: =IF(ISERROR(IF(F19>=0,RANK(F19,($D19,$F19,$H19,$J19,$L19,$N19,$P19,$R19,$T19,$V19),0),"")),"",(IF(F19>=0,RANK(F19,($D19,$F19,$H19,$J19,$L19,$N19,$P19,$R19,$T19,$V19),0),""))) | H19: - | I19: =IF(ISERROR(IF(H19>=0,RANK(H19,($D19,$F19,$H19,$J19,$L19,$N19,$P19,$R19,$T19,$V19),0),"")),"",(IF(H19>=0,RANK(H19,($D19,$F19,$H19,$J19,$L19,$N19,$P19,$R19,$T19,$V19),0),""))) | J19: - | K19: =IF(ISERROR(IF(J19>=0,RANK(J19,($D19,$F19,$H19,$J19,$L19,$N19,$P19,$R19,$T19,$V19),0),"")),"",(IF(J19>=0,RANK(J19,($D19,$F19,$H19,$J19,$L19,$N19,$P19,$R19,$T19,$V19),0),""))) | L19: - | M19: =IF(ISERROR(IF(L19>=0,RANK(L19,($D19,$F19,$H19,$J19,$L19,$N19,$P19,$R19,$T19,$V19),0),"")),"",(IF(L19>=0,RANK(L19,($D19,$F19,$H19,$J19,$L19,$N19,$P19,$R19,$T19,$V19),0),""))) | N19: - | O19: =IF(ISERROR(IF(N19>=0,RANK(N19,($D19,$F19,$H19,$J19,$L19,$N19,$P19,$R19,$T19,$V19),0),"")),"",(IF(N19>=0,RANK(N19,($D19,$F19,$H19,$J19,$L19,$N19,$P19,$R19,$T19,$V19),0),""))) | P19: - | Q19: =IF(ISERROR(IF(P19>=0,RANK(P19,($D19,$F19,$H19,$J19,$L19,$N19,$P19,$R19,$T19,$V19),0),"")),"",(IF(P19>=0,RANK(P19,($D19,$F19,$H19,$J19,$L19,$N19,$P19,$R19,$T19,$V19),0),""))) | R19: - | S19: =IF(ISERROR(IF(R19>=0,RANK(R19,($D19,$F19,$H19,$J19,$L19,$N19,$P19,$R19,$T19,$V19),0),"")),"",(IF(R19>=0,RANK(R19,($D19,$F19,$H19,$J19,$L19,$N19,$P19,$R19,$T19,$V19),0),""))) | T19: - | U19: =IF(ISERROR(IF(T19>=0,RANK(T19,($D19,$F19,$H19,$J19,$L19,$N19,$P19,$R19,$T19,$V19),0),"")),"",(IF(T19>=0,RANK(T19,($D19,$F19,$H19,$J19,$L19,$N19,$P19,$R19,$T19,$V19),0),""))) | V19: - | W19: =IF(ISERROR(IF(V19>=0,RANK(V19,($D19,$F19,$H19,$J19,$L19,$N19,$P19,$R19,$T19,$V19),0),"")),"",(IF(V19>=0,RANK(V19,($D19,$F19,$H19,$J19,$L19,$N19,$P19,$R19,$T19,$V19),0),"")))
B20: Demonstrates willingness to learn and improve | D20: - | E20: =IF(ISERROR(IF(D20>=0,RANK(D20,($D20,$F20,$H20,$J20,$L20,$N20,$P20,$R20,$T20,$V20),0),"")),"",(IF(D20>=0,RANK(D20,($D20,$F20,$H20,$J20,$L20,$N20,$P20,$R20,$T20,$V20),0),""))) | F20: - | G20: =IF(ISERROR(IF(F20>=0,RANK(F20,($D20,$F20,$H20,$J20,$L20,$N20,$P20,$R20,$T20,$V20),0),"")),"",(IF(F20>=0,RANK(F20,($D20,$F20,$H20,$J20,$L20,$N20,$P20,$R20,$T20,$V20),0),""))) | H20: - | I20: =IF(ISERROR(IF(H20>=0,RANK(H20,($D20,$F20,$H20,$J20,$L20,$N20,$P20,$R20,$T20,$V20),0),"")),"",(IF(H20>=0,RANK(H20,($D20,$F20,$H20,$J20,$L20,$N20,$P20,$R20,$T20,$V20),0),""))) | J20: - | K20: =IF(ISERROR(IF(J20>=0,RANK(J20,($D20,$F20,$H20,$J20,$L20,$N20,$P20,$R20,$T20,$V20),0),"")),"",(IF(J20>=0,RANK(J20,($D20,$F20,$H20,$J20,$L20,$N20,$P20,$R20,$T20,$V20),0),""))) | L20: - | M20: =IF(ISERROR(IF(L20>=0,RANK(L20,($D20,$F20,$H20,$J20,$L20,$N20,$P20,$R20,$T20,$V20),0),"")),"",(IF(L20>=0,RANK(L20,($D20,$F20,$H20,$J20,$L20,$N20,$P20,$R20,$T20,$V20),0),""))) | N20: - | O20: =IF(ISERROR(IF(N20>=0,RANK(N20,($D20,$F20,$H20,$J20,$L20,$N20,$P20,$R20,$T20,$V20),0),"")),"",(IF(N20>=0,RANK(N20,($D20,$F20,$H20,$J20,$L20,$N20,$P20,$R20,$T20,$V20),0),""))) | P20: - | Q20: =IF(ISERROR(IF(P20>=0,RANK(P20,($D20,$F20,$H20,$J20,$L20,$N20,$P20,$R20,$T20,$V20),0),"")),"",(IF(P20>=0,RANK(P20,($D20,$F20,$H20,$J20,$L20,$N20,$P20,$R20,$T20,$V20),0),""))) | R20: - | S20: =IF(ISERROR(IF(R20>=0,RANK(R20,($D20,$F20,$H20,$J20,$L20,$N20,$P20,$R20,$T20,$V20),0),"")),"",(IF(R20>=0,RANK(R20,($D20,$F20,$H20,$J20,$L20,$N20,$P20,$R20,$T20,$V20),0),""))) | T20: - | U20: =IF(ISERROR(IF(T20>=0,RANK(T20,($D20,$F20,$H20,$J20,$L20,$N20,$P20,$R20,$T20,$V20),0),"")),"",(IF(T20>=0,RANK(T20,($D20,$F20,$H20,$J20,$L20,$N20,$P20,$R20,$T20,$V20),0),""))) | V20: - | W20: =IF(ISERROR(IF(V20>=0,RANK(V20,($D20,$F20,$H20,$J20,$L20,$N20,$P20,$R20,$T20,$V20),0),"")),"",(IF(V20>=0,RANK(V20,($D20,$F20,$H20,$J20,$L20,$N20,$P20,$R20,$T20,$V20),0),"")))
D21: =IF(ISERROR(AVERAGE(E10:E20)),"",AVERAGE(E10:E20)) | F21: =IF(ISERROR(AVERAGE(G10:G20)),"",AVERAGE(G10:G20)) | H21: =IF(ISERROR(AVERAGE(I10:I20)),"",AVERAGE(I10:I20)) | J21: =IF(ISERROR(AVERAGE(K10:K20)),"",AVERAGE(K10:K20)) | L21: =IF(ISERROR(AVERAGE(M10:M20)),"",AVERAGE(M10:M20)) | N21: =IF(ISERROR(AVERAGE(O10:O20)),"",AVERAGE(O10:O20)) | P21: =IF(ISERROR(AVERAGE(Q10:Q20)),"",AVERAGE(Q10:Q20)) | R21: =IF(ISERROR(AVERAGE(S10:S20)),"",AVERAGE(S10:S20)) | T21: =IF(ISERROR(AVERAGE(U10:U20)),"",AVERAGE(U10:U20)) | V21: =IF(ISERROR(AVERAGE(W10:W20)),"",AVERAGE(W10:W20))
A22: OVERALL RANK | D22: =IF(ISERROR(RANK(D21,$D21:$V21,1)),"",RANK(D21,$D21:$V21,1)) | F22: =IF(ISERROR(RANK(F21,$D21:$V21,1)),"",RANK(F21,$D21:$V21,1)) | H22: =IF(ISERROR(RANK(H21,$D21:$V21,1)),"",RANK(H21,$D21:$V21,1)) | J22: =IF(ISERROR(RANK(J21,$D21:$V21,1)),"",RANK(J21,$D21:$V21,1)) | L22: =IF(ISERROR(RANK(L21,$D21:$V21,1)),"",RANK(L21,$D21:$V21,1)) | N22: =IF(ISERROR(RANK(N21,$D21:$V21,1)),"",RANK(N21,$D21:$V21,1)) | P22: =IF(ISERROR(RANK(P21,$D21:$V21,1)),"",RANK(P21,$D21:$V21,1)) | R22: =IF(ISERROR(RANK(R21,$D21:$V21,1)),"",RANK(R21,$D21:$V21,1)) | T22: =IF(ISERROR(RANK(T21,$D21:$V21,1)),"",RANK(T21,$D21:$V21,1)) | V22: =IF(ISERROR(RANK(V21,$D21:$V21,1)),"",RANK(V21,$D21:$V21,1))
C24: Team Name: | D24: - | O24: Date of Evaluation: | P24: -
C25: Age Division: | D25: - | O25: Evaluator: | P25: -
C26: Coach: | D26: -
D27: NOTE: EVALUATE PLAYERS AGAINST PLAYERS ON OWN TEAM; R=Rank

Sheet Eval #3
A1: Goaltender Evaluation Sheet
A5: EVALUATION #1 | D5: Goaltender
A6: Evaluation Item 1=weak, 10=strong | D6: Name 1 | F6: Name 2 | H6: Name 3 | J6: Name 4 | L6: Name 5 | N6: Name 6 | P6: Name 7 | R6: Name 8 | T6: Name 9 | V6: Name 10
D8: 1 | E8: R | F8: 2 | G8: R | H8: 3 | I8: R | J8: 4 | K8: R | L8: 5 | M8: R | N8: 6 | O8: R | P8: 7 | Q8: R | R8: 8 | S8: R | T8: 9 | U8: R | V8: 10 | W8: R
A9: CHARACTERISTICS
A10: Stance & Balance | B10: Maintains an athletic, stable stance; knees bent, weight fwd | D10: - | E10: =IF(ISERROR(IF(D10>=0,RANK(D10,($D10,$F10,$H10,$J10,$L10,$N10,$P10,$R10,$T10,$V10),0),"")),"",(IF(D10>=0,RANK(D10,($D10,$F10,$H10,$J10,$L10,$N10,$P10,$R10,$T10,$V10),0),""))) | F10: - | G10: =IF(ISERROR(IF(F10>=0,RANK(F10,($D10,$F10,$H10,$J10,$L10,$N10,$P10,$R10,$T10,$V10),0),"")),"",(IF(F10>=0,RANK(F10,($D10,$F10,$H10,$J10,$L10,$N10,$P10,$R10,$T10,$V10),0),""))) | H10: - | I10: =IF(ISERROR(IF(H10>=0,RANK(H10,($D10,$F10,$H10,$J10,$L10,$N10,$P10,$R10,$T10,$V10),0),"")),"",(IF(H10>=0,RANK(H10,($D10,$F10,$H10,$J10,$L10,$N10,$P10,$R10,$T10,$V10),0),""))) | J10: - | K10: =IF(ISERROR(IF(J10>=0,RANK(J10,($D10,$F10,$H10,$J10,$L10,$N10,$P10,$R10,$T10,$V10),0),"")),"",(IF(J10>=0,RANK(J10,($D10,$F10,$H10,$J10,$L10,$N10,$P10,$R10,$T10,$V10),0),""))) | L10: - | M10: =IF(ISERROR(IF(L10>=0,RANK(L10,($D10,$F10,$H10,$J10,$L10,$N10,$P10,$R10,$T10,$V10),0),"")),"",(IF(L10>=0,RANK(L10,($D10,$F10,$H10,$J10,$L10,$N10,$P10,$R10,$T10,$V10),0),""))) | N10: - | O10: =IF(ISERROR(IF(N10>=0,RANK(N10,($D10,$F10,$H10,$J10,$L10,$N10,$P10,$R10,$T10,$V10),0),"")),"",(IF(N10>=0,RANK(N10,($D10,$F10,$H10,$J10,$L10,$N10,$P10,$R10,$T10,$V10),0),""))) | P10: - | Q10: =IF(ISERROR(IF(P10>=0,RANK(P10,($D10,$F10,$H10,$J10,$L10,$N10,$P10,$R10,$T10,$V10),0),"")),"",(IF(P10>=0,RANK(P10,($D10,$F10,$H10,$J10,$L10,$N10,$P10,$R10,$T10,$V10),0),""))) | R10: - | S10: =IF(ISERROR(IF(R10>=0,RANK(R10,($D10,$F10,$H10,$J10,$L10,$N10,$P10,$R10,$T10,$V10),0),"")),"",(IF(R10>=0,RANK(R10,($D10,$F10,$H10,$J10,$L10,$N10,$P10,$R10,$T10,$V10),0),""))) | T10: - | U10: =IF(ISERROR(IF(T10>=0,RANK(T10,($D10,$F10,$H10,$J10,$L10,$N10,$P10,$R10,$T10,$V10),0),"")),"",(IF(T10>=0,RANK(T10,($D10,$F10,$H10,$J10,$L10,$N10,$P10,$R10,$T10,$V10),0),""))) | V10: - | W10: =IF(ISERROR(IF(V10>=0,RANK(V10,($D10,$F10,$H10,$J10,$L10,$N10,$P10,$R10,$T10,$V10),0),"")),"",(IF(V10>=0,RANK(V10,($D10,$F10,$H10,$J10,$L10,$N10,$P10,$R10,$T10,$V10),0),"")))
A11: Movement | B11: Uses small, controlled shuffles to stay square to puck | D11: - | E11: =IF(ISERROR(IF(D11>=0,RANK(D11,($D11,$F11,$H11,$J11,$L11,$N11,$P11,$R11,$T11,$V11),0),"")),"",(IF(D11>=0,RANK(D11,($D11,$F11,$H11,$J11,$L11,$N11,$P11,$R11,$T11,$V11),0),""))) | F11: - | G11: =IF(ISERROR(IF(F11>=0,RANK(F11,($D11,$F11,$H11,$J11,$L11,$N11,$P11,$R11,$T11,$V11),0),"")),"",(IF(F11>=0,RANK(F11,($D11,$F11,$H11,$J11,$L11,$N11,$P11,$R11,$T11,$V11),0),""))) | H11: - | I11: =IF(ISERROR(IF(H11>=0,RANK(H11,($D11,$F11,$H11,$J11,$L11,$N11,$P11,$R11,$T11,$V11),0),"")),"",(IF(H11>=0,RANK(H11,($D11,$F11,$H11,$J11,$L11,$N11,$P11,$R11,$T11,$V11),0),""))) | J11: - | K11: =IF(ISERROR(IF(J11>=0,RANK(J11,($D11,$F11,$H11,$J11,$L11,$N11,$P11,$R11,$T11,$V11),0),"")),"",(IF(J11>=0,RANK(J11,($D11,$F11,$H11,$J11,$L11,$N11,$P11,$R11,$T11,$V11),0),""))) | L11: - | M11: =IF(ISERROR(IF(L11>=0,RANK(L11,($D11,$F11,$H11,$J11,$L11,$N11,$P11,$R11,$T11,$V11),0),"")),"",(IF(L11>=0,RANK(L11,($D11,$F11,$H11,$J11,$L11,$N11,$P11,$R11,$T11,$V11),0),""))) | N11: - | O11: =IF(ISERROR(IF(N11>=0,RANK(N11,($D11,$F11,$H11,$J11,$L11,$N11,$P11,$R11,$T11,$V11),0),"")),"",(IF(N11>=0,RANK(N11,($D11,$F11,$H11,$J11,$L11,$N11,$P11,$R11,$T11,$V11),0),""))) | P11: - | Q11: =IF(ISERROR(IF(P11>=0,RANK(P11,($D11,$F11,$H11,$J11,$L11,$N11,$P11,$R11,$T11,$V11),0),"")),"",(IF(P11>=0,RANK(P11,($D11,$F11,$H11,$J11,$L11,$N11,$P11,$R11,$T11,$V11),0),""))) | R11: - | S11: =IF(ISERROR(IF(R11>=0,RANK(R11,($D11,$F11,$H11,$J11,$L11,$N11,$P11,$R11,$T11,$V11),0),"")),"",(IF(R11>=0,RANK(R11,($D11,$F11,$H11,$J11,$L11,$N11,$P11,$R11,$T11,$V11),0),""))) | T11: - | U11: =IF(ISERROR(IF(T11>=0,RANK(T11,($D11,$F11,$H11,$J11,$L11,$N11,$P11,$R11,$T11,$V11),0),"")),"",(IF(T11>=0,RANK(T11,($D11,$F11,$H11,$J11,$L11,$N11,$P11,$R11,$T11,$V11),0),""))) | V11: - | W11: =IF(ISERROR(IF(V11>=0,RANK(V11,($D11,$F11,$H11,$J11,$L11,$N11,$P11,$R11,$T11,$V11),0),"")),"",(IF(V11>=0,RANK(V11,($D11,$F11,$H11,$J11,$L11,$N11,$P11,$R11,$T11,$V11),0),"")))
A12: T-Push/C-Cut Ability | B12: Demonstrates understanding of crease movement patterns | D12: - | E12: =IF(ISERROR(IF(D12>=0,RANK(D12,($D12,$F12,$H12,$J12,$L12,$N12,$P12,$R12,$T12,$V12),0),"")),"",(IF(D12>=0,RANK(D12,($D12,$F12,$H12,$J12,$L12,$N12,$P12,$R12,$T12,$V12),0),""))) | F12: - | G12: =IF(ISERROR(IF(F12>=0,RANK(F12,($D12,$F12,$H12,$J12,$L12,$N12,$P12,$R12,$T12,$V12),0),"")),"",(IF(F12>=0,RANK(F12,($D12,$F12,$H12,$J12,$L12,$N12,$P12,$R12,$T12,$V12),0),""))) | H12: - | I12: =IF(ISERROR(IF(H12>=0,RANK(H12,($D12,$F12,$H12,$J12,$L12,$N12,$P12,$R12,$T12,$V12),0),"")),"",(IF(H12>=0,RANK(H12,($D12,$F12,$H12,$J12,$L12,$N12,$P12,$R12,$T12,$V12),0),""))) | J12: - | K12: =IF(ISERROR(IF(J12>=0,RANK(J12,($D12,$F12,$H12,$J12,$L12,$N12,$P12,$R12,$T12,$V12),0),"")),"",(IF(J12>=0,RANK(J12,($D12,$F12,$H12,$J12,$L12,$N12,$P12,$R12,$T12,$V12),0),""))) | L12: - | M12: =IF(ISERROR(IF(L12>=0,RANK(L12,($D12,$F12,$H12,$J12,$L12,$N12,$P12,$R12,$T12,$V12),0),"")),"",(IF(L12>=0,RANK(L12,($D12,$F12,$H12,$J12,$L12,$N12,$P12,$R12,$T12,$V12),0),""))) | N12: - | O12: =IF(ISERROR(IF(N12>=0,RANK(N12,($D12,$F12,$H12,$J12,$L12,$N12,$P12,$R12,$T12,$V12),0),"")),"",(IF(N12>=0,RANK(N12,($D12,$F12,$H12,$J12,$L12,$N12,$P12,$R12,$T12,$V12),0),""))) | P12: - | Q12: =IF(ISERROR(IF(P12>=0,RANK(P12,($D12,$F12,$H12,$J12,$L12,$N12,$P12,$R12,$T12,$V12),0),"")),"",(IF(P12>=0,RANK(P12,($D12,$F12,$H12,$J12,$L12,$N12,$P12,$R12,$T12,$V12),0),""))) | R12: - | S12: =IF(ISERROR(IF(R12>=0,RANK(R12,($D12,$F12,$H12,$J12,$L12,$N12,$P12,$R12,$T12,$V12),0),"")),"",(IF(R12>=0,RANK(R12,($D12,$F12,$H12,$J12,$L12,$N12,$P12,$R12,$T12,$V12),0),""))) | T12: - | U12: =IF(ISERROR(IF(T12>=0,RANK(T12,($D12,$F12,$H12,$J12,$L12,$N12,$P12,$R12,$T12,$V12),0),"")),"",(IF(T12>=0,RANK(T12,($D12,$F12,$H12,$J12,$L12,$N12,$P12,$R12,$T12,$V12),0),""))) | V12: - | W12: =IF(ISERROR(IF(V12>=0,RANK(V12,($D12,$F12,$H12,$J12,$L12,$N12,$P12,$R12,$T12,$V12),0),"")),"",(IF(V12>=0,RANK(V12,($D12,$F12,$H12,$J12,$L12,$N12,$P12,$R12,$T12,$V12),0),"")))
A13: Net Awareness | B13: Knows where the net is and keeps centered to puck | D13: - | E13: =IF(ISERROR(IF(D13>=0,RANK(D13,($D13,$F13,$H13,$J13,$L13,$N13,$P13,$R13,$T13,$V13),0),"")),"",(IF(D13>=0,RANK(D13,($D13,$F13,$H13,$J13,$L13,$N13,$P13,$R13,$T13,$V13),0),""))) | F13: - | G13: =IF(ISERROR(IF(F13>=0,RANK(F13,($D13,$F13,$H13,$J13,$L13,$N13,$P13,$R13,$T13,$V13),0),"")),"",(IF(F13>=0,RANK(F13,($D13,$F13,$H13,$J13,$L13,$N13,$P13,$R13,$T13,$V13),0),""))) | H13: - | I13: =IF(ISERROR(IF(H13>=0,RANK(H13,($D13,$F13,$H13,$J13,$L13,$N13,$P13,$R13,$T13,$V13),0),"")),"",(IF(H13>=0,RANK(H13,($D13,$F13,$H13,$J13,$L13,$N13,$P13,$R13,$T13,$V13),0),""))) | J13: - | K13: =IF(ISERROR(IF(J13>=0,RANK(J13,($D13,$F13,$H13,$J13,$L13,$N13,$P13,$R13,$T13,$V13),0),"")),"",(IF(J13>=0,RANK(J13,($D13,$F13,$H13,$J13,$L13,$N13,$P13,$R13,$T13,$V13),0),""))) | L13: - | M13: =IF(ISERROR(IF(L13>=0,RANK(L13,($D13,$F13,$H13,$J13,$L13,$N13,$P13,$R13,$T13,$V13),0),"")),"",(IF(L13>=0,RANK(L13,($D13,$F13,$H13,$J13,$L13,$N13,$P13,$R13,$T13,$V13),0),""))) | N13: - | O13: =IF(ISERROR(IF(N13>=0,RANK(N13,($D13,$F13,$H13,$J13,$L13,$N13,$P13,$R13,$T13,$V13),0),"")),"",(IF(N13>=0,RANK(N13,($D13,$F13,$H13,$J13,$L13,$N13,$P13,$R13,$T13,$V13),0),""))) | P13: - | Q13: =IF(ISERROR(IF(P13>=0,RANK(P13,($D13,$F13,$H13,$J13,$L13,$N13,$P13,$R13,$T13,$V13),0),"")),"",(IF(P13>=0,RANK(P13,($D13,$F13,$H13,$J13,$L13,$N13,$P13,$R13,$T13,$V13),0),""))) | R13: - | S13: =IF(ISERROR(IF(R13>=0,RANK(R13,($D13,$F13,$H13,$J13,$L13,$N13,$P13,$R13,$T13,$V13),0),"")),"",(IF(R13>=0,RANK(R13,($D13,$F13,$H13,$J13,$L13,$N13,$P13,$R13,$T13,$V13),0),""))) | T13: - | U13: =IF(ISERROR(IF(T13>=0,RANK(T13,($D13,$F13,$H13,$J13,$L13,$N13,$P13,$R13,$T13,$V13),0),"")),"",(IF(T13>=0,RANK(T13,($D13,$F13,$H13,$J13,$L13,$N13,$P13,$R13,$T13,$V13),0),""))) | V13: - | W13: =IF(ISERROR(IF(V13>=0,RANK(V13,($D13,$F13,$H13,$J13,$L13,$N13,$P13,$R13,$T13,$V13),0),"")),"",(IF(V13>=0,RANK(V13,($D13,$F13,$H13,$J13,$L13,$N13,$P13,$R13,$T13,$V13),0),"")))
A14: Depth Control | B14: Moves out/in from crease depending on puck distance | D14: - | E14: =IF(ISERROR(IF(D14>=0,RANK(D14,($D14,$F14,$H14,$J14,$L14,$N14,$P14,$R14,$T14,$V14),0),"")),"",(IF(D14>=0,RANK(D14,($D14,$F14,$H14,$J14,$L14,$N14,$P14,$R14,$T14,$V14),0),""))) | F14: - | G14: =IF(ISERROR(IF(F14>=0,RANK(F14,($D14,$F14,$H14,$J14,$L14,$N14,$P14,$R14,$T14,$V14),0),"")),"",(IF(F14>=0,RANK(F14,($D14,$F14,$H14,$J14,$L14,$N14,$P14,$R14,$T14,$V14),0),""))) | H14: - | I14: =IF(ISERROR(IF(H14>=0,RANK(H14,($D14,$F14,$H14,$J14,$L14,$N14,$P14,$R14,$T14,$V14),0),"")),"",(IF(H14>=0,RANK(H14,($D14,$F14,$H14,$J14,$L14,$N14,$P14,$R14,$T14,$V14),0),""))) | J14: - | K14: =IF(ISERROR(IF(J14>=0,RANK(J14,($D14,$F14,$H14,$J14,$L14,$N14,$P14,$R14,$T14,$V14),0),"")),"",(IF(J14>=0,RANK(J14,($D14,$F14,$H14,$J14,$L14,$N14,$P14,$R14,$T14,$V14),0),""))) | L14: - | M14: =IF(ISERROR(IF(L14>=0,RANK(L14,($D14,$F14,$H14,$J14,$L14,$N14,$P14,$R14,$T14,$V14),0),"")),"",(IF(L14>=0,RANK(L14,($D14,$F14,$H14,$J14,$L14,$N14,$P14,$R14,$T14,$V14),0),""))) | N14: - | O14: =IF(ISERROR(IF(N14>=0,RANK(N14,($D14,$F14,$H14,$J14,$L14,$N14,$P14,$R14,$T14,$V14),0),"")),"",(IF(N14>=0,RANK(N14,($D14,$F14,$H14,$J14,$L14,$N14,$P14,$R14,$T14,$V14),0),""))) | P14: - | Q14: =IF(ISERROR(IF(P14>=0,RANK(P14,($D14,$F14,$H14,$J14,$L14,$N14,$P14,$R14,$T14,$V14),0),"")),"",(IF(P14>=0,RANK(P14,($D14,$F14,$H14,$J14,$L14,$N14,$P14,$R14,$T14,$V14),0),""))) | R14: - | S14: =IF(ISERROR(IF(R14>=0,RANK(R14,($D14,$F14,$H14,$J14,$L14,$N14,$P14,$R14,$T14,$V14),0),"")),"",(IF(R14>=0,RANK(R14,($D14,$F14,$H14,$J14,$L14,$N14,$P14,$R14,$T14,$V14),0),""))) | T14: - | U14: =IF(ISERROR(IF(T14>=0,RANK(T14,($D14,$F14,$H14,$J14,$L14,$N14,$P14,$R14,$T14,$V14),0),"")),"",(IF(T14>=0,RANK(T14,($D14,$F14,$H14,$J14,$L14,$N14,$P14,$R14,$T14,$V14),0),""))) | V14: - | W14: =IF(ISERROR(IF(V14>=0,RANK(V14,($D14,$F14,$H14,$J14,$L14,$N14,$P14,$R14,$T14,$V14),0),"")),"",(IF(V14>=0,RANK(V14,($D14,$F14,$H14,$J14,$L14,$N14,$P14,$R14,$T14,$V14),0),"")))
A15: Tracking | B15: Eyes follow the puck from the stick to glove/blocker | D15: - | E15: =IF(ISERROR(IF(D15>=0,RANK(D15,($D15,$F15,$H15,$J15,$L15,$N15,$P15,$R15,$T15,$V15),0),"")),"",(IF(D15>=0,RANK(D15,($D15,$F15,$H15,$J15,$L15,$N15,$P15,$R15,$T15,$V15),0),""))) | F15: - | G15: =IF(ISERROR(IF(F15>=0,RANK(F15,($D15,$F15,$H15,$J15,$L15,$N15,$P15,$R15,$T15,$V15),0),"")),"",(IF(F15>=0,RANK(F15,($D15,$F15,$H15,$J15,$L15,$N15,$P15,$R15,$T15,$V15),0),""))) | H15: - | I15: =IF(ISERROR(IF(H15>=0,RANK(H15,($D15,$F15,$H15,$J15,$L15,$N15,$P15,$R15,$T15,$V15),0),"")),"",(IF(H15>=0,RANK(H15,($D15,$F15,$H15,$J15,$L15,$N15,$P15,$R15,$T15,$V15),0),""))) | J15: - | K15: =IF(ISERROR(IF(J15>=0,RANK(J15,($D15,$F15,$H15,$J15,$L15,$N15,$P15,$R15,$T15,$V15),0),"")),"",(IF(J15>=0,RANK(J15,($D15,$F15,$H15,$J15,$L15,$N15,$P15,$R15,$T15,$V15),0),""))) | L15: - | M15: =IF(ISERROR(IF(L15>=0,RANK(L15,($D15,$F15,$H15,$J15,$L15,$N15,$P15,$R15,$T15,$V15),0),"")),"",(IF(L15>=0,RANK(L15,($D15,$F15,$H15,$J15,$L15,$N15,$P15,$R15,$T15,$V15),0),""))) | N15: - | O15: =IF(ISERROR(IF(N15>=0,RANK(N15,($D15,$F15,$H15,$J15,$L15,$N15,$P15,$R15,$T15,$V15),0),"")),"",(IF(N15>=0,RANK(N15,($D15,$F15,$H15,$J15,$L15,$N15,$P15,$R15,$T15,$V15),0),""))) | P15: - | Q15: =IF(ISERROR(IF(P15>=0,RANK(P15,($D15,$F15,$H15,$J15,$L15,$N15,$P15,$R15,$T15,$V15),0),"")),"",(IF(P15>=0,RANK(P15,($D15,$F15,$H15,$J15,$L15,$N15,$P15,$R15,$T15,$V15),0),""))) | R15: - | S15: =IF(ISERROR(IF(R15>=0,RANK(R15,($D15,$F15,$H15,$J15,$L15,$N15,$P15,$R15,$T15,$V15),0),"")),"",(IF(R15>=0,RANK(R15,($D15,$F15,$H15,$J15,$L15,$N15,$P15,$R15,$T15,$V15),0),""))) | T15: - | U15: =IF(ISERROR(IF(T15>=0,RANK(T15,($D15,$F15,$H15,$J15,$L15,$N15,$P15,$R15,$T15,$V15),0),"")),"",(IF(T15>=0,RANK(T15,($D15,$F15,$H15,$J15,$L15,$N15,$P15,$R15,$T15,$V15),0),""))) | V15: - | W15: =IF(ISERROR(IF(V15>=0,RANK(V15,($D15,$F15,$H15,$J15,$L15,$N15,$P15,$R15,$T15,$V15),0),"")),"",(IF(V15>=0,RANK(V15,($D15,$F15,$H15,$J15,$L15,$N15,$P15,$R15,$T15,$V15),0),"")))
